BEGIN:VCALENDAR
VERSION:2.0
PRODID:-//Ovens Murray Child &amp; Family Services Alliance - ECPv6.7.1//NONSGML v1.0//EN
CALSCALE:GREGORIAN
METHOD:PUBLISH
X-ORIGINAL-URL:https://omcfsalliance.com.au
X-WR-CALDESC:Events for Ovens Murray Child &amp; Family Services Alliance
REFRESH-INTERVAL;VALUE=DURATION:PT1H
X-Robots-Tag:noindex
X-PUBLISHED-TTL:PT1H
BEGIN:VTIMEZONE
TZID:UTC
BEGIN:STANDARD
TZOFFSETFROM:+0000
TZOFFSETTO:+0000
TZNAME:UTC
DTSTART:20240101T000000
END:STANDARD
END:VTIMEZONE
BEGIN:VEVENT
DTSTART;TZID=UTC:20240902T080000
DTEND;TZID=UTC:20240905T170000
DTSTAMP:20260422T104727
CREATED:20240701T015030Z
LAST-MODIFIED:20240701T015030Z
UID:1463-1725264000-1725555600@omcfsalliance.com.au
SUMMARY:No to Violence Conference: Leading Radical Change: A Call to Action to End Men's Family Violence
DESCRIPTION:No to Violence will take on the theme Leading Radical Change – A call to action to end men’s family violence at the 2024 conference and will collaboratively explore the radical change needed to end men’s use of family violence. \nThe conference brings together the insights of people with lived experience\, leading policymakers\, practitioners\, and researchers\, learning from each other to create meaningful human-centred responses within communities\, families\, and workplaces. \nBuilding on our conversations on masculinities and practice with people working in communities\, and on prevention\, early intervention\, and specialist responses\, as well as recovery and healing programs\, the conference will explore how we de-silo our shared work to lead real\, radical change to end men’s use of family violence. \n📍 Rydges Melbourne\,186 Exhibition St\, Melbourne VIC 3000 \n📅 2-5 September 2024 \nCOST: Refer to registration page \n📝 Register here
URL:https://omcfsalliance.com.au/training-and-practice/no-to-violence-conference-leading-radical-change-a-call-to-action-to-end-mens-family-violence/
END:VEVENT
BEGIN:VEVENT
DTSTART;TZID=UTC:20240903T110000
DTEND;TZID=UTC:20240903T123000
DTSTAMP:20260422T104727
CREATED:20240701T014401Z
LAST-MODIFIED:20240701T014401Z
UID:1459-1725361200-1725366600@omcfsalliance.com.au
SUMMARY:Rainbow Tick Information Session
DESCRIPTION:Rainbow Tick Information Session\nIs your organisation considering Rainbow Tick accreditation? Do you want to find out more about what it looks like to embed LGBTIQ inclusion at your workplace? Come along to one of our Rainbow Tick information sessions to find out more about this world-first quality framework\, designed to help health and human services organisations become safe and inclusive for the LGBTIQ community.\n\n\n\n\n\n\n\n\n\n\n\n  \n\n\n\n\n\n\n\n\n\n\n\nThese sessions are online\, free of charge and open to all.\nClick on which session your organisation would like to learn more below: \nTuesday 3rd September 11am – 1230pm\nThursday 14th November 2pm – 330pm\n\n\n\n\n\n\n\n\n\n\n\n  \nREGISTER \n 
URL:https://omcfsalliance.com.au/training-and-practice/rainbow-tick-information-session/
END:VEVENT
BEGIN:VEVENT
DTSTART;TZID=UTC:20240906T100000
DTEND;TZID=UTC:20240906T130000
DTSTAMP:20260422T104727
CREATED:20240716T224605Z
LAST-MODIFIED:20240716T224605Z
UID:1527-1725616800-1725627600@omcfsalliance.com.au
SUMMARY:The Five Essential Discussion Tools (FREE\, 3 hour online training session delivered via Zoom)
DESCRIPTION:The original ‘The Five Essential Discussion Tools’ training package has been revised and refreshed. Perfect for practitioners who are new to working with men using family violence or those who have not explored de-escalation techniques in their work\, this training explores the Five Essential Discussion Tools whilst applying an intersectional lens. It identifies how practitioners can engage in conversations to help men make sense of their behaviour; examines the client facing tools; develops practice skills in using the tools as additional interventions with men using family violence; and discusses how safety for families can be established by connecting men with their capacity to change. \nThe revised package includes a video activity to support practitioners to identify invitations to collude\, reframing of passive language and safety planning. \nDates of delivery: \n\n6 September 2024 – 10am-1pm\n4 October 2024 – 10am-1pm\n\nFor more information and to register\, click here. \n  \n 
URL:https://omcfsalliance.com.au/training-and-practice/the-five-essential-discussion-tools-free-3-hour-online-training-session-delivered-via-zoom/
END:VEVENT
BEGIN:VEVENT
DTSTART;TZID=UTC:20240911T090000
DTEND;TZID=UTC:20240911T163000
DTSTAMP:20260422T104727
CREATED:20240821T004239Z
LAST-MODIFIED:20240821T004239Z
UID:1623-1726045200-1726072200@omcfsalliance.com.au
SUMMARY:blueknot - Trauma Responsive Leadership
DESCRIPTION:This training program explores the application of a trauma lens when supporting teams and individuals who work with complex trauma. Being trauma responsive means both individual and organisation recognise and respond to trauma which can enable change and strengthen resilience and protective factors. A trauma responsive leader embeds trauma informed principles into practice and creates a culture of safety for their team to work from. \nThe exploration of secure base leadership allows for both safety and exploration in the relationship which builds better client outcomes for staff\, as well as greater staff satisfaction and productivity\, reduced stress and enhanced well-being for all. \n\nProfessional Member Discount $310.00 incl. GST\nGroup Booking (3 or more people) Per Person Rate $330.00 incl. GST\n$350.00 incl. GST\n\nREGISTER
URL:https://omcfsalliance.com.au/training-and-practice/blueknot-trauma-responsive-leadership/
END:VEVENT
BEGIN:VEVENT
DTSTART;TZID=UTC:20240911T100000
DTEND;TZID=UTC:20240911T130000
DTSTAMP:20260422T104727
CREATED:20240716T225842Z
LAST-MODIFIED:20240716T225842Z
UID:1541-1726048800-1726059600@omcfsalliance.com.au
SUMMARY:Introduction to Working with Men Using Family Violence ($369.40\, 2x 3 hour online training sessions delivered via Zoom)
DESCRIPTION:Introduction to working with men using family violence is a foundational training experience for professionals to learn the ways in which men’s family violence is defined and understood. \nThis training develops practitioner skill and confidence in engaging men in the collaborative conversation about their use of abuse and violence\, which is critical in linking them to specialist services and referral pathways that support the behavioural change process. \nDates of delivery: \n11 & 18 September 2024\, 10am-1pm both days \nFor more information and to register\, click here.
URL:https://omcfsalliance.com.au/training-and-practice/introduction-to-working-with-men-using-family-violence-369-40-2x-3-hour-online-training-sessions-delivered-via-zoom/
END:VEVENT
BEGIN:VEVENT
DTSTART;TZID=UTC:20240917T093000
DTEND;TZID=UTC:20240917T123000
DTSTAMP:20260422T104727
CREATED:20240721T231102Z
LAST-MODIFIED:20240721T231102Z
UID:1553-1726565400-1726576200@omcfsalliance.com.au
SUMMARY:Centre for Excellence - Early Years Forum
DESCRIPTION:The ESBF team is excited to announce the second instalment of our bi-annual forum series. This session will dive deep into successful cross-sectoral collaborations in early childhood education\, child and family services\, and other allied services. We aim to spotlight best practice examples that achieve excellent outcomes for under-supported children and families. \n\nTuesday 17 September 2024\n9:30 am – 12:30 pm AEST\n\nOnline (Microsoft Teams)
URL:https://omcfsalliance.com.au/training-and-practice/centre-for-excellence-early-years-forum/
END:VEVENT
BEGIN:VEVENT
DTSTART;TZID=UTC:20240918T093000
DTEND;TZID=UTC:20240918T163000
DTSTAMP:20260422T104727
CREATED:20240701T013433Z
LAST-MODIFIED:20240701T013433Z
UID:1453-1726651800-1726677000@omcfsalliance.com.au
SUMMARY:Forum Series: Practice Responses to Child Sexual Exploitation
DESCRIPTION:Register now via Humanitix
URL:https://omcfsalliance.com.au/training-and-practice/forum-series-practice-responses-to-child-sexual-exploitation/
END:VEVENT
BEGIN:VEVENT
DTSTART;TZID=UTC:20240920T100000
DTEND;TZID=UTC:20240920T130000
DTSTAMP:20260422T104727
CREATED:20240716T225125Z
LAST-MODIFIED:20240716T225125Z
UID:1535-1726826400-1726837200@omcfsalliance.com.au
SUMMARY:Enhanced – The Five Essential Discussion Tools (FREE\, 3 hour online training session delivered via Zoom)
DESCRIPTION:For practitioners who have engaged with the Five Essential Discussion Tools before\, this enhanced package will refresh knowledge and introduce new topics and practice considerations. \nTraining content expands upon underlying theories that support the tools – interoception (Body Signs Tool)\, Name it to Tame it [Dr. Dan Siegel] (Traffic Light Tool) – the theory of behaviour change and brain plasticity; identifying and responding to invitations to collude; and practitioner accountability and best practice principles in the work – managing reactivity and using the tools on yourselves as practitioners. \nThe enhanced package also includes a case study following the journey of a ‘practitioner’ explaining the benefits of the tools to a ‘client’. \nDates of delivery: \n\n20 September 2024 – 10am-1pm\n\nFor more information and to register\, click here.
URL:https://omcfsalliance.com.au/training-and-practice/enhanced-the-five-essential-discussion-tools-free-3-hour-online-training-session-delivered-via-zoom-3/
END:VEVENT
END:VCALENDAR