BEGIN:VCALENDAR
VERSION:2.0
PRODID:-//Ovens Murray Child &amp; Family Services Alliance - ECPv6.7.1//NONSGML v1.0//EN
CALSCALE:GREGORIAN
METHOD:PUBLISH
X-WR-CALNAME:Ovens Murray Child &amp; Family Services Alliance
X-ORIGINAL-URL:https://omcfsalliance.com.au
X-WR-CALDESC:Events for Ovens Murray Child &amp; Family Services Alliance
REFRESH-INTERVAL;VALUE=DURATION:PT1H
X-Robots-Tag:noindex
X-PUBLISHED-TTL:PT1H
BEGIN:VTIMEZONE
TZID:UTC
BEGIN:STANDARD
TZOFFSETFROM:+0000
TZOFFSETTO:+0000
TZNAME:UTC
DTSTART:20250101T000000
END:STANDARD
END:VTIMEZONE
BEGIN:VEVENT
DTSTART;TZID=UTC:20251126T090000
DTEND;TZID=UTC:20251126T163000
DTSTAMP:20260421T092748
CREATED:20250923T232006Z
LAST-MODIFIED:20250923T232006Z
UID:2549-1764147600-1764174600@omcfsalliance.com.au
SUMMARY:Blue Knot Foundation - Trauma Informed Diversity Awareness Masterclass
DESCRIPTION:This masterclass fosters the knowledge and skills to work competently and confidently with transgender and gender diverse people accessing therapeutic and other services. It explores the intersectionality of complex trauma\, discrimination\, and minority stress to build understanding on how these factors impact the health of transgender and gender diverse people. \nParticipants gain a practical and inclusive framework for implementing trauma-informed principles within best practice guidelines when working with transgender and gender diverse populations\, aligning policies and procedures with existing legislation. \nUpcoming Session  26 November 2025\, 9am to 4.30pm ACDT \nVirtual Classroom via Zoom \n\n$370.00 incl. GST AUD\nBlue Knot Professional Member Discount $330.00 incl. GST AUD\n\nPlaces are limited! Click here to register
URL:https://omcfsalliance.com.au/training-and-practice/blue-knot-foundation-trauma-informed-diversity-awareness-masterclass-2/
END:VEVENT
END:VCALENDAR