BEGIN:VCALENDAR
VERSION:2.0
PRODID:-//Ovens Murray Child &amp; Family Services Alliance - ECPv6.7.1//NONSGML v1.0//EN
CALSCALE:GREGORIAN
METHOD:PUBLISH
X-WR-CALNAME:Ovens Murray Child &amp; Family Services Alliance
X-ORIGINAL-URL:https://omcfsalliance.com.au
X-WR-CALDESC:Events for Ovens Murray Child &amp; Family Services Alliance
REFRESH-INTERVAL;VALUE=DURATION:PT1H
X-Robots-Tag:noindex
X-PUBLISHED-TTL:PT1H
BEGIN:VTIMEZONE
TZID:UTC
BEGIN:STANDARD
TZOFFSETFROM:+0000
TZOFFSETTO:+0000
TZNAME:UTC
DTSTART:20250101T000000
END:STANDARD
END:VTIMEZONE
BEGIN:VEVENT
DTSTART;TZID=UTC:20251120T100000
DTEND;TZID=UTC:20251120T150000
DTSTAMP:20260421T085242
CREATED:20250928T235325Z
LAST-MODIFIED:20250928T235325Z
UID:2553-1763632800-1763650800@omcfsalliance.com.au
SUMMARY:CFECFW - Navigating the NDIS
DESCRIPTION:Navigating the NDIS\nThis hands-on workshop provides practical training for professionals working in the child and family sector who support NDIS participants or their carers. It runs for four hours in total and is delivered in two separate two-hour sessions\, and you can choose to attend both sessions on the same day or spread them across two different days.\nOnline\, Thursday 20 November. \nCourse Overview\nThis workshop provides hands-on\, practical training for professionals working in the child and family sector who support NDIS participants or their carers. \nIt runs for four hours in total and is delivered in two separate two-hour sessions. You can choose to attend both sessions on the same day or spread them across two different days – whatever suits your schedule best \nLearning Outcomes\n\nAn explanation of how the NDIS is designed to work\, including the many assumptions built into it about families and children with a disability.\nClear explanation of the roles and responsibilities of child and family sector staff in working with families with disability.\nParental perspectives on the experience of caring for a child with disability.\nTips and techniques to help support vulnerable families as they navigate the NDIS\, from access to review and appeal.\nAn introduction to the wide network of support and advocacy organisations around the NDIS.\n\nThese sessions offer insider knowledge about how decisions are made within the NDIS. You’ll gain valuable insights into how disability is defined\, the types of evidence that impact decision-making\, and the language that helps achieve the best outcomes.  \nWe also provide practical templates and tools to support you in collecting information and clearly communicating the needs of children\, parents\, and carers to NDIS decision-makers. \n\nNavigating the NDIS – Session one: 10:00 am – 12:00 pm\nNavigating the NDIS – Session two: 1:00 pm – 3:00 pm\n\nTo register\, follow the link below and select ‘NDIS’ in the program field. \nREGISTER
URL:https://omcfsalliance.com.au/training-and-practice/cfecfw-navigating-the-ndis-2/
END:VEVENT
END:VCALENDAR