BEGIN:VCALENDAR
VERSION:2.0
PRODID:-//Ovens Murray Child &amp; Family Services Alliance - ECPv6.7.1//NONSGML v1.0//EN
CALSCALE:GREGORIAN
METHOD:PUBLISH
X-ORIGINAL-URL:https://omcfsalliance.com.au
X-WR-CALDESC:Events for Ovens Murray Child &amp; Family Services Alliance
REFRESH-INTERVAL;VALUE=DURATION:PT1H
X-Robots-Tag:noindex
X-PUBLISHED-TTL:PT1H
BEGIN:VTIMEZONE
TZID:UTC
BEGIN:STANDARD
TZOFFSETFROM:+0000
TZOFFSETTO:+0000
TZNAME:UTC
DTSTART:20250101T000000
END:STANDARD
END:VTIMEZONE
BEGIN:VEVENT
DTSTART;TZID=UTC:20251111T080000
DTEND;TZID=UTC:20251114T170000
DTSTAMP:20260421T085355
CREATED:20250701T021449Z
LAST-MODIFIED:20250701T021449Z
UID:2458-1762848000-1763139600@omcfsalliance.com.au
SUMMARY:THRIVE National Youth Summit
DESCRIPTION:Young people in Australia are facing a growing crisis and it’s now time to act together. \nFrom rising youth crime and homelessness to poor mental health and job insecurity\, the challenges are urgent and deeply connected. Many young people are falling through the cracks due to siloed services and limited support. \nTHRIVE 2025 has been developed in consultation with young people to identify five key areas needing change: housing\, mental health\, substance use\, safety and employment. \nMeet and network with 70+ voices shaping the future for young people: \nREGISTER \n\n\n\n\n\n\n\nRegister now and save $400! \nPay only $2\,099 + GST \nUse code: EB2 NAP \n *Exclusive offer ends Friday 25 July and doesn’t apply to solution providers* 
URL:https://omcfsalliance.com.au/training-and-practice/thrive-national-youth-summit/
END:VEVENT
BEGIN:VEVENT
DTSTART;TZID=UTC:20251112T080000
DTEND;TZID=UTC:20251114T170000
DTSTAMP:20260421T085355
CREATED:20250929T001152Z
LAST-MODIFIED:20250929T001152Z
UID:2568-1762934400-1763139600@omcfsalliance.com.au
SUMMARY:ASID 2025 Conference: Learning from the Past\, Shaping the Future
DESCRIPTION:ASID 2025 Conference: Learning from the Past\, Shaping the Future\nThe 2025 conference will bring together a wide range of people interested in furthering the rights and improving the quality of life of people with intellectual disabilities. They include researchers\, advocates\, policymakers\, service providers\, families and people with intellectual disabilities. \nDate: Wednesday 12th November – Friday 14th November 2025\nVenue: Aerial Function Centre\, Sydney \nRead More » \nREGISTER
URL:https://omcfsalliance.com.au/training-and-practice/asid-2025-conference-learning-from-the-past-shaping-the-future/
END:VEVENT
BEGIN:VEVENT
DTSTART;TZID=UTC:20251114T090000
DTEND;TZID=UTC:20251114T163000
DTSTAMP:20260421T085355
CREATED:20250929T000526Z
LAST-MODIFIED:20250929T000526Z
UID:2564-1763110800-1763137800@omcfsalliance.com.au
SUMMARY:CFECFW - Together with Families\, Family Services Symposium 2025
DESCRIPTION:Family Services Symposium tickets on sale now!\nTogether with Families is the Centre’s Family Services Symposium\, a celebration of the central role of family services in supporting children and their families to thrive in Victoria and Tasmania. \nTaking place at The Glasshouse on Friday 14 November\, we’re delighted to welcome family services practitioners\, leaders\, and partners from across Victoria and Tasmania to a day of celebration\, connection\, and knowledge sharing. \n\n\n\nBuy tickets
URL:https://omcfsalliance.com.au/training-and-practice/cfecfw-together-with-families-family-services-symposium-2025/
END:VEVENT
END:VCALENDAR