BEGIN:VCALENDAR
VERSION:2.0
PRODID:-//Ovens Murray Child &amp; Family Services Alliance - ECPv6.7.1//NONSGML v1.0//EN
CALSCALE:GREGORIAN
METHOD:PUBLISH
X-WR-CALNAME:Ovens Murray Child &amp; Family Services Alliance
X-ORIGINAL-URL:https://omcfsalliance.com.au
X-WR-CALDESC:Events for Ovens Murray Child &amp; Family Services Alliance
REFRESH-INTERVAL;VALUE=DURATION:PT1H
X-Robots-Tag:noindex
X-PUBLISHED-TTL:PT1H
BEGIN:VTIMEZONE
TZID:UTC
BEGIN:STANDARD
TZOFFSETFROM:+0000
TZOFFSETTO:+0000
TZNAME:UTC
DTSTART:20250101T000000
END:STANDARD
END:VTIMEZONE
BEGIN:VEVENT
DTSTART;TZID=UTC:20251023T093000
DTEND;TZID=UTC:20251023T133000
DTSTAMP:20260421T101544
CREATED:20250923T224844Z
LAST-MODIFIED:20250923T224844Z
UID:2542-1761211800-1761226200@omcfsalliance.com.au
SUMMARY:Ovens Murray 'Unanswered Calls' Premiere
DESCRIPTION:This is not just a film; it’s a wake-up call. \nUnanswered Calls is a powerful documentary that sheds light on the often-overlooked stories of Australia’s young victim-survivors of family violence – children and young people. \nThis film invites us to listen more deeply and act more bravely and to understand what is possible…. \nThe Ovens Murray Community Services networks of; Ovens Murray Child & Family Services Alliance (OMCFS)\, Ovens Murray Family Violence Partnership (OMFVP)\, Ovens Murray Mental Health Alcohol and Drug Alliance (OMMHADA) and Ovens Murray Homelessness Networrk\, invites you to The Ovens Murray Premiere; \nThis impactful documentary raises awareness of how we must better support children and young people experiencing or afraid of domestic and family violence – to ensure no more children and young people fall through the gaps. \nFollowed by; KEYNOTE SPEAKER – Professor Kate Fitz-Gibbon (featured in the documentary)\, and Local Ovens Murray Service presentations. \nGET TICKETS
URL:https://omcfsalliance.com.au/training-and-practice/ovens-murray-unanswered-calls-premiere/
LOCATION:Wangaratta Peforming Arts Centre\, 33-37 Ford Street\, Wangaratta\, Victoria\, 3677\, Australia
END:VEVENT
BEGIN:VEVENT
DTSTART;TZID=UTC:20251023T100000
DTEND;TZID=UTC:20251023T150000
DTSTAMP:20260421T101544
CREATED:20250928T235019Z
LAST-MODIFIED:20250928T235019Z
UID:2551-1761213600-1761231600@omcfsalliance.com.au
SUMMARY:CFECFW- Navigating the NDIS
DESCRIPTION:Navigating the NDIS\nThis hands-on workshop provides practical training for professionals working in the child and family sector who support NDIS participants or their carers. It runs for four hours in total and is delivered in two separate two-hour sessions\, and you can choose to attend both sessions on the same day or spread them across two different days.\nOnline\, Thursday 23 October\, and Thursday 20 November.\n\n\n\nCourse Overview\nThis workshop provides hands-on\, practical training for professionals working in the child and family sector who support NDIS participants or their carers. \nIt runs for four hours in total and is delivered in two separate two-hour sessions. You can choose to attend both sessions on the same day or spread them across two different days – whatever suits your schedule best \nLearning Outcomes\n\nAn explanation of how the NDIS is designed to work\, including the many assumptions built into it about families and children with a disability.\nClear explanation of the roles and responsibilities of child and family sector staff in working with families with disability.\nParental perspectives on the experience of caring for a child with disability.\nTips and techniques to help support vulnerable families as they navigate the NDIS\, from access to review and appeal.\nAn introduction to the wide network of support and advocacy organisations around the NDIS.\n\nThese sessions offer insider knowledge about how decisions are made within the NDIS. You’ll gain valuable insights into how disability is defined\, the types of evidence that impact decision-making\, and the language that helps achieve the best outcomes.  \nWe also provide practical templates and tools to support you in collecting information and clearly communicating the needs of children\, parents\, and carers to NDIS decision-makers. \n\nNavigating the NDIS – Session one: 10:00 am – 12:00 pm\nNavigating the NDIS – Session two: 1:00 pm – 3:00 pm\n\nTo register\, follow the link below and select ‘NDIS’ in the program field. \nREGISTER
URL:https://omcfsalliance.com.au/training-and-practice/cfecfw-navigating-the-ndis/
END:VEVENT
END:VCALENDAR