BEGIN:VCALENDAR
VERSION:2.0
PRODID:-//Ovens Murray Child &amp; Family Services Alliance - ECPv6.7.1//NONSGML v1.0//EN
CALSCALE:GREGORIAN
METHOD:PUBLISH
X-ORIGINAL-URL:https://omcfsalliance.com.au
X-WR-CALDESC:Events for Ovens Murray Child &amp; Family Services Alliance
REFRESH-INTERVAL;VALUE=DURATION:PT1H
X-Robots-Tag:noindex
X-PUBLISHED-TTL:PT1H
BEGIN:VTIMEZONE
TZID:UTC
BEGIN:STANDARD
TZOFFSETFROM:+0000
TZOFFSETTO:+0000
TZNAME:UTC
DTSTART:20250101T000000
END:STANDARD
END:VTIMEZONE
BEGIN:VEVENT
DTSTART;TZID=UTC:20251021T093000
DTEND;TZID=UTC:20251022T170000
DTSTAMP:20260421T102413
CREATED:20250901T012424Z
LAST-MODIFIED:20250901T012424Z
UID:2533-1761039000-1761152400@omcfsalliance.com.au
SUMMARY:OPEN Symposium 2025 - Collaborative Practice: Working in Partnership with Children and Families
DESCRIPTION:The OPEN Symposium 2025\, an initiative of the Centre for Excellence in Child and Family Welfare\, will bring together practitioners\, researchers\, policy makers\, funders\, and people with lived experience to explore how the child and family services (CFS) sector is leading collaborative responses to complex needs. \nThis year’s theme Collaborative practice: Working in partnership with children and families celebrates the sector’s role as connector\, coordinator\, and catalyst for partnerships that put children and families first. \nAcross two days\, you’ll hear about: \n\nPlace-based initiatives that bring services and communities together\nCross-sector\, co-located\, and cross-disciplinary teams\nCollaborative approaches to challenges like housing\, family violence\, youth justice\, and school disengagement\nInnovative service design\, governance\, and practice\nPartnerships between sector\, government\, and philanthropy\nStories of leadership\, innovation\, and lived experience\n\nWhy Attend? \n\nLearn from leaders in the child and family services sector\nExplore practical models and tools for collaboration\nGain insights from research and lived experience\nConnect with peers locally\, nationally\, and internationally\nBe inspired by stories of change that are making a difference\n\nHead over to 2025.OPENSymposium.com.au for more details!
URL:https://omcfsalliance.com.au/training-and-practice/open-symposium-2025-collaborative-practice-working-in-partnership-with-children-and-families/
END:VEVENT
END:VCALENDAR