BEGIN:VCALENDAR
VERSION:2.0
PRODID:-//Ovens Murray Child &amp; Family Services Alliance - ECPv6.7.1//NONSGML v1.0//EN
CALSCALE:GREGORIAN
METHOD:PUBLISH
X-ORIGINAL-URL:https://omcfsalliance.com.au
X-WR-CALDESC:Events for Ovens Murray Child &amp; Family Services Alliance
REFRESH-INTERVAL;VALUE=DURATION:PT1H
X-Robots-Tag:noindex
X-PUBLISHED-TTL:PT1H
BEGIN:VTIMEZONE
TZID:UTC
BEGIN:STANDARD
TZOFFSETFROM:+0000
TZOFFSETTO:+0000
TZNAME:UTC
DTSTART:20250101T000000
END:STANDARD
END:VTIMEZONE
BEGIN:VEVENT
DTSTART;TZID=UTC:20250930T130000
DTEND;TZID=UTC:20250930T170000
DTSTAMP:20260421T101922
CREATED:20250929T001606Z
LAST-MODIFIED:20250929T001644Z
UID:2570-1759237200-1759251600@omcfsalliance.com.au
SUMMARY:Rainbow Health Australia- Everyday Use\, Real Impacts - Queer substance use in focus
DESCRIPTION:A forum launching findings from two major studies of LGBTQ+ alcohol and other drug use\nJoin the ARCSHS team for a forum launching briefing papers and practice guides from two major studies\, QSOX and Futures of Substance. \nTuesday 30 September\n1pm-5pm\nThorne Harbour Health (200 Hoddle St Abbotsford) or online via Zoom\n\n\n\n\n\n\n\nAlcohol and other drug use among LGBTQ+ communities is a significant issue\, yet clinicians and services often struggle to fully understand its social and cultural dimensions. \nTo help address this gap\, ARCSHS is hosting a half-day event to present recent findings from two research projects examining LGBTQ+ people’s experiences of substance use\, problem recognition\, and engagement with support services. \nThe event will bring together researchers\, clinicians\, community organisations\, and service providers to:\n\nShare evidence-based insights from qualitative research with LGBTQ+ communities;\nDiscuss practical implications for culturally responsive and identity-affirming care;\nCreate opportunities for dialogue between researchers and those working on the frontline.\n\n  \n\n\n\n\n\n\n\nRegister now
URL:https://omcfsalliance.com.au/training-and-practice/rainbow-health-australia-everyday-use-real-impacts-queer-substance-use-in-focus/
END:VEVENT
END:VCALENDAR