BEGIN:VCALENDAR
VERSION:2.0
PRODID:-//Ovens Murray Child &amp; Family Services Alliance - ECPv6.7.1//NONSGML v1.0//EN
CALSCALE:GREGORIAN
METHOD:PUBLISH
X-ORIGINAL-URL:https://omcfsalliance.com.au
X-WR-CALDESC:Events for Ovens Murray Child &amp; Family Services Alliance
REFRESH-INTERVAL;VALUE=DURATION:PT1H
X-Robots-Tag:noindex
X-PUBLISHED-TTL:PT1H
BEGIN:VTIMEZONE
TZID:UTC
BEGIN:STANDARD
TZOFFSETFROM:+0000
TZOFFSETTO:+0000
TZNAME:UTC
DTSTART:20250101T000000
END:STANDARD
END:VTIMEZONE
BEGIN:VEVENT
DTSTART;TZID=UTC:20250918T090000
DTEND;TZID=UTC:20250918T163000
DTSTAMP:20260421T113138
CREATED:20250629T231959Z
LAST-MODIFIED:20250629T231959Z
UID:2451-1758186000-1758213000@omcfsalliance.com.au
SUMMARY:STRENGTHENING DISABILITY ADVOCACY CONFERENCE - Impacts of advocacy in local communities
DESCRIPTION:Disability Advocates often operate quietly\, initiating projects and forming community networks that significantly benefit people with disabilities. These initiatives include research projects focused on specific disabilities\, community service linkage networks that enhance access to support services\, and funded projects that build the capacity of individuals with disabilities in their advocacy journeys. \nHosted by the Disability Advocacy Resource Unit (DARU) in anticipation of once-in-a-lifetime disability reform in Australia\, this year’s conference theme focuses on the impact of disability advocacy within local communities\, showcasing successful projects\, community networks\, and strategies that improve access to services and empower people with disabilities. It highlights the importance of person-centred disability advocacy\, collaboration and the sharing of best practices to create positive change and build capacity in communities. \nSpots are limited\, so please save the date\, and register as soon as possible so you don’t miss out! \nIn person: NAB\, The Arena\, Concourse\, 700 Bourke Street Docklands \nRegister to attend the 2025 Strengthening Disability Advocacy Conference here.
URL:https://omcfsalliance.com.au/training-and-practice/strengthening-disability-advocacy-conference-impacts-of-advocacy-in-local-communities/
LOCATION:NAB\, The Arena\, Concourse\, 700 Bourke Street Docklands
END:VEVENT
END:VCALENDAR