BEGIN:VCALENDAR
VERSION:2.0
PRODID:-//Ovens Murray Child &amp; Family Services Alliance - ECPv6.7.1//NONSGML v1.0//EN
CALSCALE:GREGORIAN
METHOD:PUBLISH
X-ORIGINAL-URL:https://omcfsalliance.com.au
X-WR-CALDESC:Events for Ovens Murray Child &amp; Family Services Alliance
REFRESH-INTERVAL;VALUE=DURATION:PT1H
X-Robots-Tag:noindex
X-PUBLISHED-TTL:PT1H
BEGIN:VTIMEZONE
TZID:UTC
BEGIN:STANDARD
TZOFFSETFROM:+0000
TZOFFSETTO:+0000
TZNAME:UTC
DTSTART:20250101T000000
END:STANDARD
END:VTIMEZONE
BEGIN:VEVENT
DTSTART;TZID=UTC:20250817T080000
DTEND;TZID=UTC:20250822T170000
DTSTAMP:20260421T130540
CREATED:20250317T213737Z
LAST-MODIFIED:20250317T213737Z
UID:2266-1755417600-1755882000@omcfsalliance.com.au
SUMMARY:Australian Childhood Foundation - International Childhood Trauma Conference 2025
DESCRIPTION:Our conference theme \nTransforming trauma: connection and healing \nThe fifth Childhood Trauma Conference will explore transformative approaches to healing trauma\, through connection\, collaboration\, and community. Delegates in attendance will embark on a journey of growth through engaging with reflexive praxis. Through workshops\, advanced masterclasses\, keynote presentations and more\, together we will delve into the complexities of childhood trauma and its profound impacts\, finding pathways to transforming lives through integrating insights\, techniques\, and best practices. Fostering a deeper understanding of how to facilitate healing through our work\, the theme Transforming trauma: connection and healing will reinforce that healing is not a solitary process\, but a collective journey\, built within communities\, with compassion and love. Join the over 12\,000 past delegates who have attended previous iterations of the Conference\, and develop your knowledge and practice in 2025. \n17-22 August\, Melbourne Convention & Exhibition Centre \nJoin us \nPurchase your ticket today \nRegister
URL:https://omcfsalliance.com.au/training-and-practice/australian-childhood-foundation-international-childhood-trauma-conference-2025/
END:VEVENT
END:VCALENDAR