BEGIN:VCALENDAR
VERSION:2.0
PRODID:-//Ovens Murray Child &amp; Family Services Alliance - ECPv6.7.1//NONSGML v1.0//EN
CALSCALE:GREGORIAN
METHOD:PUBLISH
X-WR-CALNAME:Ovens Murray Child &amp; Family Services Alliance
X-ORIGINAL-URL:https://omcfsalliance.com.au
X-WR-CALDESC:Events for Ovens Murray Child &amp; Family Services Alliance
REFRESH-INTERVAL;VALUE=DURATION:PT1H
X-Robots-Tag:noindex
X-PUBLISHED-TTL:PT1H
BEGIN:VTIMEZONE
TZID:UTC
BEGIN:STANDARD
TZOFFSETFROM:+0000
TZOFFSETTO:+0000
TZNAME:UTC
DTSTART:20250101T000000
END:STANDARD
END:VTIMEZONE
BEGIN:VEVENT
DTSTART;TZID=UTC:20250624T091500
DTEND;TZID=UTC:20250624T163000
DTSTAMP:20260421T154754
CREATED:20250505T004808Z
LAST-MODIFIED:20250505T004808Z
UID:2374-1750756500-1750782600@omcfsalliance.com.au
SUMMARY:Emerging Minds and Ovens Murray Community Service Sectors - Child-focused practice with parents who use substances workshop
DESCRIPTION:About this workshop\nThis one-day workshop aims to support practitioners working in both child- and adult- focused services to have collaborative conversations with parents about their children’s mental health\, parenting strengths and the impact of substance use on their children’s wellbeing. \nThis interactive session will include reflective activities and case study discussions that will provide participants with the opportunity to apply concepts to their own practice and work contexts. \nIt will also offer participants the chance to work collaboratively with other services to strengthen service relationships and regional support pathways for families. \nLearning aims \nThe workshop will support participants to:\n\napply trauma-informed child-focused principles when working with children and parents\nidentify entry points for collaborative conversations with parents about their children’s mental health\, parenting strengths and the influence of substance use on their family\nfacilitate discussions with parents around their parenting values and explore how these values can inspire change\nuse the PERCS Conversation Guide with parents to discuss key domains of children’s mental health\n\n  \nREGISTER
URL:https://omcfsalliance.com.au/training-and-practice/emerging-minds-and-ovens-murray-community-service-sectors-child-focused-practice-with-parents-who-use-substances-workshop/
LOCATION:Gateway Health\, 155 High Street\, Wodonga\, VIC\, 3690\, Australia
END:VEVENT
END:VCALENDAR