BEGIN:VCALENDAR
VERSION:2.0
PRODID:-//Ovens Murray Child &amp; Family Services Alliance - ECPv6.7.1//NONSGML v1.0//EN
CALSCALE:GREGORIAN
METHOD:PUBLISH
X-ORIGINAL-URL:https://omcfsalliance.com.au
X-WR-CALDESC:Events for Ovens Murray Child &amp; Family Services Alliance
REFRESH-INTERVAL;VALUE=DURATION:PT1H
X-Robots-Tag:noindex
X-PUBLISHED-TTL:PT1H
BEGIN:VTIMEZONE
TZID:UTC
BEGIN:STANDARD
TZOFFSETFROM:+0000
TZOFFSETTO:+0000
TZNAME:UTC
DTSTART:20250101T000000
END:STANDARD
END:VTIMEZONE
BEGIN:VEVENT
DTSTART;TZID=UTC:20250617T090000
DTEND;TZID=UTC:20250620T170000
DTSTAMP:20260421T155035
CREATED:20241117T223432Z
LAST-MODIFIED:20241117T223432Z
UID:1982-1750150800-1750438800@omcfsalliance.com.au
SUMMARY:Partnership Brokership Training
DESCRIPTION:Partnership training for family violence services  \nWorking in partnership and collaborative ways is a core part of the work we do in preventing and responding to family violence. While the push for cross-sectoral and cross-system partnerships is increasing\, how do we support the people leading partnerships to work across organisations in ways that are inclusive\, respectful and impactful? \nSafe and Equal and the Partnership Brokers Association (PBA) are hosting the PBA’s globally recognised four day partnership training course. \nTo apply\, complete an application form that can be found here
URL:https://omcfsalliance.com.au/training-and-practice/partnership-brokership-training/
END:VEVENT
BEGIN:VEVENT
DTSTART;TZID=UTC:20250618T100000
DTEND;TZID=UTC:20250619T130000
DTSTAMP:20260421T155035
CREATED:20250210T021446Z
LAST-MODIFIED:20250210T021446Z
UID:2145-1750240800-1750338000@omcfsalliance.com.au
SUMMARY:No to Violence - Engaging Dads Using Family Violence
DESCRIPTION:This package challenges the common practice of placing responsibility on victim-survivors. Backed by current evidence\, this training highlights the gendered drivers of men’s violence against women and shifts the focus to perpetrator accountability. \nDates: Wednesday 18th & Thursday 19th June from 10am – 1:00pm\nLocation: Online\nCost: $369.40 (including GST)\nDiscounted Price: $299 (including GST) \nRegister here to gain valuable insights and make a lasting impact.
URL:https://omcfsalliance.com.au/training-and-practice/no-to-violence-engaging-dads-using-family-violence-3/
END:VEVENT
BEGIN:VEVENT
DTSTART;TZID=UTC:20250619T091500
DTEND;TZID=UTC:20250619T163000
DTSTAMP:20260421T155035
CREATED:20250520T010637Z
LAST-MODIFIED:20250520T010637Z
UID:2397-1750324500-1750350600@omcfsalliance.com.au
SUMMARY:UMFC - Family Violence in a Child's World
DESCRIPTION:Specialised training for practitioners\n   \nThis training will help professionals to: \n\nUnderstand what family violence is and how it hurts children\nUnderstand children and adolescents brain development and how this can be impacted by trauma\nUnderstand how to pivot blame away from the non-offending parent and keep perpetrators in the picture\nBuild skills in talking with children about their experiences and ways to keep them safe\n\nFor further information please email fvcw@umfc.com.au or call during office hours on 02 6055 8000 and ask for a member in the Family Violence Child Safety Team \nLocation: UMFC Wodonga Conference Room\, 27-29 Stanley Street Wodonga
URL:https://omcfsalliance.com.au/training-and-practice/umfc-family-violence-in-a-childs-world/
END:VEVENT
END:VCALENDAR