BEGIN:VCALENDAR
VERSION:2.0
PRODID:-//Ovens Murray Child &amp; Family Services Alliance - ECPv6.7.1//NONSGML v1.0//EN
CALSCALE:GREGORIAN
METHOD:PUBLISH
X-ORIGINAL-URL:https://omcfsalliance.com.au
X-WR-CALDESC:Events for Ovens Murray Child &amp; Family Services Alliance
REFRESH-INTERVAL;VALUE=DURATION:PT1H
X-Robots-Tag:noindex
X-PUBLISHED-TTL:PT1H
BEGIN:VTIMEZONE
TZID:UTC
BEGIN:STANDARD
TZOFFSETFROM:+0000
TZOFFSETTO:+0000
TZNAME:UTC
DTSTART:20250101T000000
END:STANDARD
END:VTIMEZONE
BEGIN:VEVENT
DTSTART;TZID=UTC:20250616T090000
DTEND;TZID=UTC:20250616T163000
DTSTAMP:20260421T155035
CREATED:20241119T234546Z
LAST-MODIFIED:20250317T222840Z
UID:2017-1750064400-1750091400@omcfsalliance.com.au
SUMMARY:Blue Knot - Three Phased Approach: Safety and Stabilisation - online
DESCRIPTION:This interactive training presents best principles for working with complex trauma clients\, drawing on current research in trauma theory and therapy\, attachment\, affective neuroscience and interpersonal neurobiology. It explores the importance of a phased approach for complex trauma clients with a primary focus on Phase 1 Safety and Stabilisation.\n\n\n\n\n$350.00 incl. GST AUD\nGroup Booking (3 or more people) Per Person Rate $330.00 incl. GST AUD\nBlue Knot Professional Member Discount $310.00 incl. GST AUD\n\n\n\nLearn more\nRegister
URL:https://omcfsalliance.com.au/training-and-practice/three-phased-approach-safety-and-stabilisation-online-7/
END:VEVENT
END:VCALENDAR