BEGIN:VCALENDAR
VERSION:2.0
PRODID:-//Ovens Murray Child &amp; Family Services Alliance - ECPv6.7.1//NONSGML v1.0//EN
CALSCALE:GREGORIAN
METHOD:PUBLISH
X-ORIGINAL-URL:https://omcfsalliance.com.au
X-WR-CALDESC:Events for Ovens Murray Child &amp; Family Services Alliance
REFRESH-INTERVAL;VALUE=DURATION:PT1H
X-Robots-Tag:noindex
X-PUBLISHED-TTL:PT1H
BEGIN:VTIMEZONE
TZID:UTC
BEGIN:STANDARD
TZOFFSETFROM:+0000
TZOFFSETTO:+0000
TZNAME:UTC
DTSTART:20250101T000000
END:STANDARD
END:VTIMEZONE
BEGIN:VEVENT
DTSTART;TZID=UTC:20250529T093000
DTEND;TZID=UTC:20250529T133000
DTSTAMP:20260421T155033
CREATED:20250519T025853Z
LAST-MODIFIED:20250519T025853Z
UID:2389-1748511000-1748525400@omcfsalliance.com.au
SUMMARY:CENTRE FOR EXCELLENCE IN CHILD AND FAMILY WELFARE - Best Interest Case Practice Model Training\, Online two-day training
DESCRIPTION:Best Interest Case Practice Model Training – BICPM \nThis two-day training is dedicated to fostering favourable outcomes for children and their families\, through bolstering professional proficiency in family services\, child protection\, and placement and support services.\nOnline\, Wednesday 28 and Thursday 29 May\, 9:30 am – 1:30 pm. $450 incl. GST
URL:https://omcfsalliance.com.au/training-and-practice/centre-for-excellence-in-child-and-family-welfare-best-interest-case-practice-model-training-online-two-day-training/
END:VEVENT
BEGIN:VEVENT
DTSTART;TZID=UTC:20250529T100000
DTEND;TZID=UTC:20250529T150000
DTSTAMP:20260421T155033
CREATED:20250519T030636Z
LAST-MODIFIED:20250519T030636Z
UID:2395-1748512800-1748530800@omcfsalliance.com.au
SUMMARY:CENTRE FOR EXCELLENCE IN CHILD AND FAMILY WELFARE - Navigating the NDIS
DESCRIPTION:Navigating the NDIS \nThis interactive workshop is designed to deliver practical\, pragmatic training for child and family sector staff who work with clients on the NDIS. The training is four-hours in total\, split into two\, two-hour sessions. The sessions are listed separately so that you can choose to attend both in one day\, or split them across two different days.\nOnline\, Thursday 29 May\, 10:00 am – 3:00 pm.\n\n\n\nREGISTER
URL:https://omcfsalliance.com.au/training-and-practice/centre-for-excellence-in-child-and-family-welfare-navigating-the-ndis/
END:VEVENT
END:VCALENDAR