BEGIN:VCALENDAR
VERSION:2.0
PRODID:-//Ovens Murray Child &amp; Family Services Alliance - ECPv6.7.1//NONSGML v1.0//EN
CALSCALE:GREGORIAN
METHOD:PUBLISH
X-ORIGINAL-URL:https://omcfsalliance.com.au
X-WR-CALDESC:Events for Ovens Murray Child &amp; Family Services Alliance
REFRESH-INTERVAL;VALUE=DURATION:PT1H
X-Robots-Tag:noindex
X-PUBLISHED-TTL:PT1H
BEGIN:VTIMEZONE
TZID:UTC
BEGIN:STANDARD
TZOFFSETFROM:+0000
TZOFFSETTO:+0000
TZNAME:UTC
DTSTART:20250101T000000
END:STANDARD
END:VTIMEZONE
BEGIN:VEVENT
DTSTART;TZID=UTC:20250519T080000
DTEND;TZID=UTC:20250522T170000
DTSTAMP:20260421T170956
CREATED:20250413T225034Z
LAST-MODIFIED:20250413T225034Z
UID:2345-1747641600-1747933200@omcfsalliance.com.au
SUMMARY:FRSA National Conference 2025- Safe\, Strong & Thriving
DESCRIPTION:The FRSA National Conference is heralded as a highlight event for the Family and Relationship Services network and is one of the largest annual gatherings of practitioners\, academics and policy makers working to support children\, families and communities. This ‘not to be missed’ event will feature a number of highly acclaimed keynote presenters\, as well as Federal Ministers and sector leaders with a focus on delivering the most effective services to children\, families and young people. \nAs social service organisations we are always at the cutting edge of emerging trends and changes in society – for the FRS sector\, especially for vulnerable children\, families and communities. \nThe theme for the FRSA National Conference 2025 is Safe\, Strong and Thriving and will be held at the Sheraton Grand Sydney Hyde Park on 19-22 May 2025. \n REGISTER TODAYor \nVIEW THE PROGRAM  \n 
URL:https://omcfsalliance.com.au/training-and-practice/frsa-national-conference-2025-safe-strong-thriving/
END:VEVENT
BEGIN:VEVENT
DTSTART;TZID=UTC:20250520T080000
DTEND;TZID=UTC:20250521T170000
DTSTAMP:20260421T170956
CREATED:20250324T015637Z
LAST-MODIFIED:20250324T015637Z
UID:2288-1747728000-1747846800@omcfsalliance.com.au
SUMMARY:Annual NDIS Conference
DESCRIPTION:NDIS 2.0 Lets get on with it! DSC are hsoting their annual NDIS Conference – an opportunity to learn\, plan and connect with the whole NDIS ecosystem. \nDate: Tuesday 20th May\, 2025 – Wednesday 21st May\, 2025 \nVenue: Melbourne Convention Centre\nView Registration Form >
URL:https://omcfsalliance.com.au/training-and-practice/annual-ndis-conference/
END:VEVENT
BEGIN:VEVENT
DTSTART;TZID=UTC:20250521T093000
DTEND;TZID=UTC:20250521T133000
DTSTAMP:20260421T170956
CREATED:20250519T025320Z
LAST-MODIFIED:20250519T025320Z
UID:2384-1747819800-1747834200@omcfsalliance.com.au
SUMMARY:CENTRE FOR EXCELLENCE IN CHILD AND FAMILY WELFARE - Effective Leadership Skills\, online workshop
DESCRIPTION:Effective Leadership Skills \nDesigned for staff who have leadership responsibilities of teams in the Community Services sector\, or who wish to build their leadership capability\, this workshop aims to provide participants with the skills and tools to lead effectively and successfully.\nOnline\, Wednesday 21 May\, 9:30 am – 1:30 pm. $260 incl. GST
URL:https://omcfsalliance.com.au/training-and-practice/centre-for-excellence-in-child-and-family-welfare-effective-leadership-skills-online-workshop/
END:VEVENT
END:VCALENDAR