BEGIN:VCALENDAR
VERSION:2.0
PRODID:-//Ovens Murray Child &amp; Family Services Alliance - ECPv6.7.1//NONSGML v1.0//EN
CALSCALE:GREGORIAN
METHOD:PUBLISH
X-WR-CALNAME:Ovens Murray Child &amp; Family Services Alliance
X-ORIGINAL-URL:https://omcfsalliance.com.au
X-WR-CALDESC:Events for Ovens Murray Child &amp; Family Services Alliance
REFRESH-INTERVAL;VALUE=DURATION:PT1H
X-Robots-Tag:noindex
X-PUBLISHED-TTL:PT1H
BEGIN:VTIMEZONE
TZID:UTC
BEGIN:STANDARD
TZOFFSETFROM:+0000
TZOFFSETTO:+0000
TZNAME:UTC
DTSTART:20250101T000000
END:STANDARD
END:VTIMEZONE
BEGIN:VEVENT
DTSTART;TZID=UTC:20250422T093000
DTEND;TZID=UTC:20250422T153000
DTSTAMP:20260421T182535
CREATED:20250402T214742Z
LAST-MODIFIED:20250402T214742Z
UID:2304-1745314200-1745335800@omcfsalliance.com.au
SUMMARY:OMCFS Alliance presents - RESISTING COLLUSION AND MOTIVATING CHANGE with men who use intimate partner violence\, online workshop
DESCRIPTION:Online training workshop \nTRAINERS : \nAda Conroy & Kelly Finch\nresisting collusion and motivating change with men who use intimate partner violence\n  \nThis workshop is supported by the OMCFS Alliance  \nResisting Collusion & Motivating Change is a full-day online training for practitioners who may come across men who use intimate partner violence in the course of their work\, and who are seeking to strengthen their practice\, contribute to change\, and enhance victim-survivor safety.  \nParticipants who attend this training will be able to: \n\nExplain the causes\, mechanisms\, and purpose of family violence\nExplore perpetrator accountability\nIdentify core beliefs held by men who use violence\nIdentify ‘smoke screens’ used to conceal violence\nUse invitational approaches to build rapport and enhance reflection\nUnderstand the nature of collusion and how to resist invitations to collude\nExamine shame and values\nMotivate change and referral readiness\nUnderstand safety planning and referral pathways\n\nThis training is MARAM aligned\, runs from 9:30am – 3:30pm \nBookings via mclarke@umfc.com.au
URL:https://omcfsalliance.com.au/training-and-practice/omcfs-alliance-presents-resisting-collusion-and-motivating-change-with-men-who-use-intimate-partner-violence-online-workshop/
END:VEVENT
END:VCALENDAR