BEGIN:VCALENDAR
VERSION:2.0
PRODID:-//Ovens Murray Child &amp; Family Services Alliance - ECPv6.7.1//NONSGML v1.0//EN
CALSCALE:GREGORIAN
METHOD:PUBLISH
X-ORIGINAL-URL:https://omcfsalliance.com.au
X-WR-CALDESC:Events for Ovens Murray Child &amp; Family Services Alliance
REFRESH-INTERVAL;VALUE=DURATION:PT1H
X-Robots-Tag:noindex
X-PUBLISHED-TTL:PT1H
BEGIN:VTIMEZONE
TZID:UTC
BEGIN:STANDARD
TZOFFSETFROM:+0000
TZOFFSETTO:+0000
TZNAME:UTC
DTSTART:20250101T000000
END:STANDARD
END:VTIMEZONE
BEGIN:VEVENT
DTSTART;TZID=UTC:20250416T090000
DTEND;TZID=UTC:20250417T163000
DTSTAMP:20260421T182828
CREATED:20241119T234009Z
LAST-MODIFIED:20241119T234009Z
UID:2011-1744794000-1744907400@omcfsalliance.com.au
SUMMARY:Three Phased Approach: Processing and Integration - online
DESCRIPTION:This training is designed for practitioners working in a counselling and/or therapeutic role with complex trauma clients\, and utilise clinical assessment\, case formulation and treatment/care planning in their daily practice. Phase 2 (Trauma Processing) covers application of strategies for safe work informed by an understanding of traumatic memory and explores Phase 3 (Integration)\, building your skills to better support your clients to integrate their trauma into their life story.\n\n\n\n\n$700.00 incl. GST AUD\nGroup Booking (3 or more people) Per Person Rate $675.00 incl. GST AUD\nBlue Knot Professional Member Discount $630.00 incl. GST AUD\n\n\n\n\n\nLearn more\nRegister
URL:https://omcfsalliance.com.au/training-and-practice/three-phased-approach-processing-and-integration-online-2/
END:VEVENT
END:VCALENDAR