BEGIN:VCALENDAR
VERSION:2.0
PRODID:-//Ovens Murray Child &amp; Family Services Alliance - ECPv6.7.1//NONSGML v1.0//EN
CALSCALE:GREGORIAN
METHOD:PUBLISH
X-WR-CALNAME:Ovens Murray Child &amp; Family Services Alliance
X-ORIGINAL-URL:https://omcfsalliance.com.au
X-WR-CALDESC:Events for Ovens Murray Child &amp; Family Services Alliance
REFRESH-INTERVAL;VALUE=DURATION:PT1H
X-Robots-Tag:noindex
X-PUBLISHED-TTL:PT1H
BEGIN:VTIMEZONE
TZID:UTC
BEGIN:STANDARD
TZOFFSETFROM:+0000
TZOFFSETTO:+0000
TZNAME:UTC
DTSTART:20250101T000000
END:STANDARD
END:VTIMEZONE
BEGIN:VEVENT
DTSTART;TZID=UTC:20250410T090000
DTEND;TZID=UTC:20250410T163000
DTSTAMP:20260421T182546
CREATED:20241119T233801Z
LAST-MODIFIED:20241119T233801Z
UID:2009-1744275600-1744302600@omcfsalliance.com.au
SUMMARY:Introduction to Dissociation - Online
DESCRIPTION:This interactive one-day training builds on our clinical training programs which provide the clinical framework of the three phased approach and introduces the concept of dissociation. This training focuses on this specific topic and considers dissociation as a continuum\, explores dissociation in everyday life and expands on this to explore complex trauma-related dissociation.\n\n\n\n\n$350.00 incl. GST AUD\nGroup Booking (3 or more people) Per Person Rate $330.00 incl. GST AUD\nBlue Knot Professional Member Discount $310.00 incl. GST AUD\n\n\n\n\nLearn more\nRegister
URL:https://omcfsalliance.com.au/training-and-practice/introduction-to-dissociation-online-3/
END:VEVENT
END:VCALENDAR