BEGIN:VCALENDAR
VERSION:2.0
PRODID:-//Ovens Murray Child &amp; Family Services Alliance - ECPv6.7.1//NONSGML v1.0//EN
CALSCALE:GREGORIAN
METHOD:PUBLISH
X-ORIGINAL-URL:https://omcfsalliance.com.au
X-WR-CALDESC:Events for Ovens Murray Child &amp; Family Services Alliance
REFRESH-INTERVAL;VALUE=DURATION:PT1H
X-Robots-Tag:noindex
X-PUBLISHED-TTL:PT1H
BEGIN:VTIMEZONE
TZID:UTC
BEGIN:STANDARD
TZOFFSETFROM:+0000
TZOFFSETTO:+0000
TZNAME:UTC
DTSTART:20250101T000000
END:STANDARD
END:VTIMEZONE
BEGIN:VEVENT
DTSTART;TZID=UTC:20250321T090000
DTEND;TZID=UTC:20250321T163000
DTSTAMP:20260421T195915
CREATED:20250219T224155Z
LAST-MODIFIED:20250219T224155Z
UID:2175-1742547600-1742574600@omcfsalliance.com.au
SUMMARY:Blue Knot - Managing Wellbeing and Recognising Vicarious Trauma\, online
DESCRIPTION:This training program explores the nature\, dynamics and risks of vicarious trauma and supports you to stay healthy and safe in your work. This training\, informed by current research\, will provide you with the knowledge\, skills and tools to better recognise the early signs of various stress outcomes. It offers a range of organisational\, interpersonal and personal strategies to address the risks of Vicarious Trauma and its impacts\, and foster possibilities for post-traumatic growth and vicarious resilience. \n\n$350.00 incl. GST AUD\nGroup Booking (3 or more people) Per Person Rate $330.00 incl. GST AUD\nBlue Knot Professional Member Discount $310.00 incl. GST AUD\n\nRegister
URL:https://omcfsalliance.com.au/training-and-practice/blue-knot-managing-wellbeing-and-recognising-vicarious-trauma-online-2/
END:VEVENT
END:VCALENDAR