BEGIN:VCALENDAR
VERSION:2.0
PRODID:-//Ovens Murray Child &amp; Family Services Alliance - ECPv6.7.1//NONSGML v1.0//EN
CALSCALE:GREGORIAN
METHOD:PUBLISH
X-ORIGINAL-URL:https://omcfsalliance.com.au
X-WR-CALDESC:Events for Ovens Murray Child &amp; Family Services Alliance
REFRESH-INTERVAL;VALUE=DURATION:PT1H
X-Robots-Tag:noindex
X-PUBLISHED-TTL:PT1H
BEGIN:VTIMEZONE
TZID:UTC
BEGIN:STANDARD
TZOFFSETFROM:+0000
TZOFFSETTO:+0000
TZNAME:UTC
DTSTART:20250101T000000
END:STANDARD
END:VTIMEZONE
BEGIN:VEVENT
DTSTART;TZID=UTC:20250318T080000
DTEND;TZID=UTC:20250320T180000
DTSTAMP:20260421T195812
CREATED:20240701T015614Z
LAST-MODIFIED:20240701T015614Z
UID:1466-1742284800-1742493600@omcfsalliance.com.au
SUMMARY:2025 Asia Pacific Region - Coercive Control & Children
DESCRIPTION:REGISTER
URL:https://omcfsalliance.com.au/training-and-practice/2025-asia-pacific-region-coercive-control-children/
END:VEVENT
BEGIN:VEVENT
DTSTART;TZID=UTC:20250319T090000
DTEND;TZID=UTC:20250319T163000
DTSTAMP:20260421T195812
CREATED:20250219T223419Z
LAST-MODIFIED:20250219T223419Z
UID:2166-1742374800-1742401800@omcfsalliance.com.au
SUMMARY:Blue Knot - Trauma Sensitive Practice - Working with Complex Trauma\, online
DESCRIPTION:This training program utilises current research to provide an understanding of trauma\, the impacts of trauma and the neurobiological responses that occur. It builds an understanding of the key features of complex trauma that can present in our working relationships and the resourcing and regulation that can support in practice. This program is for those who have some level of trauma awareness and seek to build on their knowledge and continue to embed the trauma informed principles within practice. \n\nWed 9:30 AM – 5:00 PM AEDT\n\n \n\n$350.00 incl. GST AUD\nGroup Booking (3 or more people) Per Person Rate $330.00 incl. GST AUD\nBlue Knot Professional Member Discount $310.00 incl. GST AUD\n\nRegister
URL:https://omcfsalliance.com.au/training-and-practice/blue-knot-trauma-sensitive-practice-working-with-complex-trauma-online-3/
END:VEVENT
BEGIN:VEVENT
DTSTART;TZID=UTC:20250319T100000
DTEND;TZID=UTC:20250319T130000
DTSTAMP:20260421T195812
CREATED:20250210T020552Z
LAST-MODIFIED:20250210T020552Z
UID:2132-1742378400-1742389200@omcfsalliance.com.au
SUMMARY:No to Violence - The Five Essential Discussion Tools
DESCRIPTION:The original ‘The Five Essential Discussion Tools’ training package has been revised and refreshed. Perfect for practitioners who are new to working with men using family violence or those who have not explored de-escalation techniques in their work\, this training explores the Five Essential Discussion Tools whilst applying an intersectional lens. \nWednesday 19 March from 10am – 1:00pm\nLocation: Online\nCost: FREE \nFor more information\, dates\, and to register\, click here.
URL:https://omcfsalliance.com.au/training-and-practice/no-to-violence-the-five-essential-discussion-tools-2/
END:VEVENT
BEGIN:VEVENT
DTSTART;TZID=UTC:20250319T100000
DTEND;TZID=UTC:20250320T130000
DTSTAMP:20260421T195812
CREATED:20250210T021139Z
LAST-MODIFIED:20250210T021139Z
UID:2141-1742378400-1742475600@omcfsalliance.com.au
SUMMARY:No To Violence - Engaging Dads Using Family Violence
DESCRIPTION:This package challenges the common practice of placing responsibility on victim-survivors. Backed by current evidence\, this training highlights the gendered drivers of men’s violence against women and shifts the focus to perpetrator accountability. \nLocation: Online\nCost: $369.40 (including GST)\nDiscounted Price: $299 (including GST) \nRegister here to gain valuable insights and make a lasting impact.
URL:https://omcfsalliance.com.au/training-and-practice/no-to-violence-engaging-dads-using-family-violence/
END:VEVENT
END:VCALENDAR