BEGIN:VCALENDAR
VERSION:2.0
PRODID:-//Ovens Murray Child &amp; Family Services Alliance - ECPv6.7.1//NONSGML v1.0//EN
CALSCALE:GREGORIAN
METHOD:PUBLISH
X-WR-CALNAME:Ovens Murray Child &amp; Family Services Alliance
X-ORIGINAL-URL:https://omcfsalliance.com.au
X-WR-CALDESC:Events for Ovens Murray Child &amp; Family Services Alliance
REFRESH-INTERVAL;VALUE=DURATION:PT1H
X-Robots-Tag:noindex
X-PUBLISHED-TTL:PT1H
BEGIN:VTIMEZONE
TZID:UTC
BEGIN:STANDARD
TZOFFSETFROM:+0000
TZOFFSETTO:+0000
TZNAME:UTC
DTSTART:20250101T000000
END:STANDARD
END:VTIMEZONE
BEGIN:VEVENT
DTSTART;TZID=UTC:20250311T090000
DTEND;TZID=UTC:20250311T123000
DTSTAMP:20260421T195427
CREATED:20250211T221656Z
LAST-MODIFIED:20250211T221656Z
UID:2151-1741683600-1741696200@omcfsalliance.com.au
SUMMARY:Blue Knot - Navigating Trauma Care: Maintaining Wellbeing While Practicing Compassion and Empathy
DESCRIPTION:This half day (3.5hrs) training program is designed to empower professionals working with trauma while prioritizing self-care. Wellbeing\, Compassion\, and Empathy equips participants with the tools to foster compassion for others and themselves\, navigate the challenges of trauma-informed practice\, and build resilience in high-stress environments. \nOnline\n \n\n$175.00 incl. GST AUD\nBlue Knot Professional Member $157.50 incl. GST AUD\n\nREGISTER
URL:https://omcfsalliance.com.au/training-and-practice/blue-knot-navigating-trauma-care-maintaining-wellbeing-while-practicing-compassion-and-empathy/
END:VEVENT
BEGIN:VEVENT
DTSTART;TZID=UTC:20250311T090000
DTEND;TZID=UTC:20250311T123000
DTSTAMP:20260421T195427
CREATED:20250219T223828Z
LAST-MODIFIED:20250219T223828Z
UID:2171-1741683600-1741696200@omcfsalliance.com.au
SUMMARY:Blue Knot - Navigating Trauma Care - Maintaining Wellbeing while Practicing Compassion and Empathy\, online
DESCRIPTION:This half day (3.5hrs) training program is designed to empower professionals working with trauma while prioritizing self-care. Wellbeing\, Compassion\, and Empathy equips participants with the tools to foster compassion for others and themselves\, navigate the challenges of trauma-informed practice\, and build resilience in high-stress environments. \n\n$175.00 incl. GST AUD\nBlue Knot Professional Member $157.50 incl. GST AUD\n\nRegister
URL:https://omcfsalliance.com.au/training-and-practice/blue-knot-navigating-trauma-care-maintaining-wellbeing-while-practicing-compassion-and-empathy-online-2/
END:VEVENT
END:VCALENDAR