BEGIN:VCALENDAR
VERSION:2.0
PRODID:-//Ovens Murray Child &amp; Family Services Alliance - ECPv6.7.1//NONSGML v1.0//EN
CALSCALE:GREGORIAN
METHOD:PUBLISH
X-WR-CALNAME:Ovens Murray Child &amp; Family Services Alliance
X-ORIGINAL-URL:https://omcfsalliance.com.au
X-WR-CALDESC:Events for Ovens Murray Child &amp; Family Services Alliance
REFRESH-INTERVAL;VALUE=DURATION:PT1H
X-Robots-Tag:noindex
X-PUBLISHED-TTL:PT1H
BEGIN:VTIMEZONE
TZID:UTC
BEGIN:STANDARD
TZOFFSETFROM:+0000
TZOFFSETTO:+0000
TZNAME:UTC
DTSTART:20250101T000000
END:STANDARD
END:VTIMEZONE
BEGIN:VEVENT
DTSTART;TZID=UTC:20250307T090000
DTEND;TZID=UTC:20250307T163000
DTSTAMP:20260421T195300
CREATED:20250219T223237Z
LAST-MODIFIED:20250219T223237Z
UID:2164-1741338000-1741365000@omcfsalliance.com.au
SUMMARY:Blue Knot - Trauma Sensitive Practice - Working with Complex Trauma\, online
DESCRIPTION:This training program utilises current research to provide an understanding of trauma\, the impacts of trauma and the neurobiological responses that occur. It builds an understanding of the key features of complex trauma that can present in our working relationships and the resourcing and regulation that can support in practice. This program is for those who have some level of trauma awareness and seek to build on their knowledge and continue to embed the trauma informed principles within practice. \n\n$350.00 incl. GST AUD\nGroup Booking (3 or more people) Per Person Rate $330.00 incl. GST AUD\nBlue Knot Professional Member Discount $310.00 incl. GST AUD\n\nRegister
URL:https://omcfsalliance.com.au/training-and-practice/blue-knot-trauma-sensitive-practice-working-with-complex-trauma-online-2/
END:VEVENT
BEGIN:VEVENT
DTSTART;TZID=UTC:20250307T100000
DTEND;TZID=UTC:20250307T130000
DTSTAMP:20260421T195300
CREATED:20250210T020858Z
LAST-MODIFIED:20250210T020858Z
UID:2137-1741341600-1741352400@omcfsalliance.com.au
SUMMARY:No to Violence\, Enhanced - The Five Essential Discussion Tools
DESCRIPTION:For practitioners who have engaged with the Five Essential Discussion Tools before\, this enhanced package will refresh knowledge and introduce new topics and practice considerations. \nLocation: Online\nCost: FREE \nFor more information\, dates\, and to register\, click here.
URL:https://omcfsalliance.com.au/training-and-practice/no-to-violence-enhanced-the-five-essential-discussion-tools-3/
END:VEVENT
END:VCALENDAR