BEGIN:VCALENDAR
VERSION:2.0
PRODID:-//Ovens Murray Child &amp; Family Services Alliance - ECPv6.7.1//NONSGML v1.0//EN
CALSCALE:GREGORIAN
METHOD:PUBLISH
X-ORIGINAL-URL:https://omcfsalliance.com.au
X-WR-CALDESC:Events for Ovens Murray Child &amp; Family Services Alliance
REFRESH-INTERVAL;VALUE=DURATION:PT1H
X-Robots-Tag:noindex
X-PUBLISHED-TTL:PT1H
BEGIN:VTIMEZONE
TZID:UTC
BEGIN:STANDARD
TZOFFSETFROM:+0000
TZOFFSETTO:+0000
TZNAME:UTC
DTSTART:20250101T000000
END:STANDARD
END:VTIMEZONE
BEGIN:VEVENT
DTSTART;TZID=UTC:20250306T093000
DTEND;TZID=UTC:20250306T133000
DTSTAMP:20260421T195703
CREATED:20250128T020258Z
LAST-MODIFIED:20250128T020258Z
UID:2100-1741253400-1741267800@omcfsalliance.com.au
SUMMARY:Small Steps: Bystander Action for Equality - Online via Zoom
DESCRIPTION:By learning how to be an active bystander through Small Steps: Bystander Action for Equality\, you can safely and effectively challenge sexist attitudes in your personal and professional life. \n🎫 AUD $250 \n👉 Register here
URL:https://omcfsalliance.com.au/training-and-practice/small-steps-bystander-action-for-equality-online-via-zoom/
END:VEVENT
END:VCALENDAR