BEGIN:VCALENDAR
VERSION:2.0
PRODID:-//Ovens Murray Child &amp; Family Services Alliance - ECPv6.7.1//NONSGML v1.0//EN
CALSCALE:GREGORIAN
METHOD:PUBLISH
X-ORIGINAL-URL:https://omcfsalliance.com.au
X-WR-CALDESC:Events for Ovens Murray Child &amp; Family Services Alliance
REFRESH-INTERVAL;VALUE=DURATION:PT1H
X-Robots-Tag:noindex
X-PUBLISHED-TTL:PT1H
BEGIN:VTIMEZONE
TZID:UTC
BEGIN:STANDARD
TZOFFSETFROM:+0000
TZOFFSETTO:+0000
TZNAME:UTC
DTSTART:20250101T000000
END:STANDARD
END:VTIMEZONE
BEGIN:VEVENT
DTSTART;TZID=UTC:20250226T090000
DTEND;TZID=UTC:20250226T163000
DTSTAMP:20260421T195828
CREATED:20250219T223042Z
LAST-MODIFIED:20250219T223042Z
UID:2162-1740560400-1740587400@omcfsalliance.com.au
SUMMARY:Blue Knot - Trauma Sensitive Practice - Working with Complex Trauma\, online
DESCRIPTION:This training program utilises current research to provide an understanding of trauma\, the impacts of trauma and the neurobiological responses that occur. It builds an understanding of the key features of complex trauma that can present in our working relationships and the resourcing and regulation that can support in practice. This program is for those who have some level of trauma awareness and seek to build on their knowledge and continue to embed the trauma informed principles within practice. \n\n$350.00 incl. GST AUD\nGroup Booking (3 or more people) Per Person Rate $330.00 incl. GST AUD\nBlue Knot Professional Member Discount $310.00 incl. GST AUD\n\nRegister
URL:https://omcfsalliance.com.au/training-and-practice/blue-knot-trauma-sensitive-practice-working-with-complex-trauma-online/
END:VEVENT
BEGIN:VEVENT
DTSTART;TZID=UTC:20250226T100000
DTEND;TZID=UTC:20250226T130000
DTSTAMP:20260421T195828
CREATED:20250210T020745Z
LAST-MODIFIED:20250210T020745Z
UID:2134-1740564000-1740574800@omcfsalliance.com.au
SUMMARY:No to Violence\, Enhanced -The Five Essential Discussion Tools
DESCRIPTION:For practitioners who have engaged with the Five Essential Discussion Tools before\, this enhanced package will refresh knowledge and introduce new topics and practice considerations. \nLocation: Online\nCost: FREE \nFor more information\, dates\, and to register\, click here
URL:https://omcfsalliance.com.au/training-and-practice/no-to-violence-enhanced-the-five-essential-discussion-tools-2/
END:VEVENT
BEGIN:VEVENT
DTSTART;TZID=UTC:20250226T110000
DTEND;TZID=UTC:20250226T120000
DTSTAMP:20260421T195828
CREATED:20250219T225130Z
LAST-MODIFIED:20250219T225130Z
UID:2177-1740567600-1740571200@omcfsalliance.com.au
SUMMARY:People Tank - Strategic Leadership: Leading with Purpose and Precision
DESCRIPTION:Join Greg Sellar\, Senior Capability Consultant at People Tank\, for an insight-packed session on leadership that delivers real impact. With expertise across corporate\, retail\, media\, pharma\, and fitness\, Greg brings deep knowledge in coaching\, NLP\, and leadership development to help you sharpen your leadership edge. \nWhat You’ll Gain: \n\nEncourage creativity & adaptability – Empower teams to think critically and embrace change.\nMake strategic decisions with confidence – Align leadership choices with long-term business success.\nEnhance trust & communication – Strengthen collaboration across teams.\nConnect teams to a shared vision – Inspire purpose and alignment in your organisation.\nBuild resilience & psychological safety – Foster a high-performing\, engaged workforce.\n\n  \nWho Should Attend? \nThis session is designed for managers\, senior leaders\, and HR professionals looking to enhance their strategic leadership skills. Whether you’re leading teams\, driving change\, or shaping workplace culture\, you’ll gain valuable insights to elevate your leadership approach. \nREGISTER \nWhy Join? \nThis isn’t just another webinar – it’s a practical\, high-impact session designed to help you tackle leadership challenges head-on. Walk away with actionable strategies to lead with confidence\, influence with clarity\, and drive meaningful results.
URL:https://omcfsalliance.com.au/training-and-practice/people-tank-strategic-leadership-leading-with-purpose-and-precision/
END:VEVENT
END:VCALENDAR