BEGIN:VCALENDAR
VERSION:2.0
PRODID:-//Ovens Murray Child &amp; Family Services Alliance - ECPv6.7.1//NONSGML v1.0//EN
CALSCALE:GREGORIAN
METHOD:PUBLISH
X-ORIGINAL-URL:https://omcfsalliance.com.au
X-WR-CALDESC:Events for Ovens Murray Child &amp; Family Services Alliance
REFRESH-INTERVAL;VALUE=DURATION:PT1H
X-Robots-Tag:noindex
X-PUBLISHED-TTL:PT1H
BEGIN:VTIMEZONE
TZID:UTC
BEGIN:STANDARD
TZOFFSETFROM:+0000
TZOFFSETTO:+0000
TZNAME:UTC
DTSTART:20250101T000000
END:STANDARD
TZID:Australia/Melbourne
BEGIN:STANDARD
TZOFFSETFROM:+1100
TZOFFSETTO:+1000
TZNAME:AEST
DTSTART:20250405T160000
END:STANDARD
BEGIN:DAYLIGHT
TZOFFSETFROM:+1000
TZOFFSETTO:+1100
TZNAME:AEDT
DTSTART:20251004T160000
END:DAYLIGHT
END:VTIMEZONE
BEGIN:VEVENT
DTSTART;TZID=UTC:20250219T093000
DTEND;TZID=UTC:20250219T170000
DTSTAMP:20260421T214115
CREATED:20250121T224046Z
LAST-MODIFIED:20250121T224046Z
UID:2093-1739957400-1739984400@omcfsalliance.com.au
SUMMARY:Foundations for Building Trauma Awareness - online
DESCRIPTION:This training utilises current research to provide an understanding of trauma\, the impacts of trauma on all aspects of life and subsequently the coping mechanisms formed in response to trauma. The principles of trauma-informed practice are introduced which focus on a strengths-based approach and applicable to all\, vital for every person working in health\, human\, education\, disability and legal services\, working in government\, non-government\, public or private sectors. \n\n$350.00 incl. GST AUD\nGroup Booking (3 or more people) Per Person Rate $330.00 incl. GST AUD\nBlue Knot Professional Member Discount $310.00 incl. GST AUD\n\nRegister
URL:https://omcfsalliance.com.au/training-and-practice/foundations-for-building-trauma-awareness-online/
END:VEVENT
BEGIN:VEVENT
DTSTART;TZID=Australia/Melbourne:20250219T130000
DTEND;TZID=Australia/Melbourne:20250219T140000
DTSTAMP:20260421T214115
CREATED:20250120T035941Z
LAST-MODIFIED:20250120T035941Z
UID:2077-1739970000-1739973600@omcfsalliance.com.au
SUMMARY:Supporting non-offending parents after child sexual abuse
DESCRIPTION:  \n \n\n\n\n\n\n\n\nSupporting non-offending parents after child sexual abuse\n\n\n\n\n\n\n\n\n\n\nPresenters: Alisa Hall (National Centre for Action on Child Sexual Abuse)\, Sophie McEvoy (Relationships Australia SA)\, Dr Carmela Bastian and Dan Moss (Emerging Minds) \n  \nDate & time: Wednesday 19 February 2025\, 1:00 – 2:00PM (AEDT). Find your time zone. \n  \nPartner: Emerging Minds\n\n\n\n\n\n\n\nREGISTER
URL:https://omcfsalliance.com.au/training-and-practice/supporting-non-offending-parents-after-child-sexual-abuse/
END:VEVENT
END:VCALENDAR