BEGIN:VCALENDAR
VERSION:2.0
PRODID:-//Ovens Murray Child &amp; Family Services Alliance - ECPv6.7.1//NONSGML v1.0//EN
CALSCALE:GREGORIAN
METHOD:PUBLISH
X-WR-CALNAME:Ovens Murray Child &amp; Family Services Alliance
X-ORIGINAL-URL:https://omcfsalliance.com.au
X-WR-CALDESC:Events for Ovens Murray Child &amp; Family Services Alliance
REFRESH-INTERVAL;VALUE=DURATION:PT1H
X-Robots-Tag:noindex
X-PUBLISHED-TTL:PT1H
BEGIN:VTIMEZONE
TZID:UTC
BEGIN:STANDARD
TZOFFSETFROM:+0000
TZOFFSETTO:+0000
TZNAME:UTC
DTSTART:20250101T000000
END:STANDARD
END:VTIMEZONE
BEGIN:VEVENT
DTSTART;TZID=UTC:20250213T090000
DTEND;TZID=UTC:20250213T170000
DTSTAMP:20260421T213912
CREATED:20250120T223234Z
LAST-MODIFIED:20250120T223234Z
UID:2083-1739437200-1739466000@omcfsalliance.com.au
SUMMARY:She is not your rehab presents - How to work with men & boys to create violence free communities
DESCRIPTION:SECURE YOUR SPOT
URL:https://omcfsalliance.com.au/training-and-practice/she-is-not-your-rehab-presents-how-to-work-with-men-boys-to-create-violence-free-communities/
END:VEVENT
BEGIN:VEVENT
DTSTART;TZID=UTC:20250213T090000
DTEND;TZID=UTC:20250214T170000
DTSTAMP:20260421T213912
CREATED:20250119T210433Z
LAST-MODIFIED:20250119T210433Z
UID:2053-1739437200-1739552400@omcfsalliance.com.au
SUMMARY:The VAADA Conference 2025 - From Challenges to Solutions: Responding to a Changing World
DESCRIPTION:Grand Hyatt Melbourne\, \n123 Collins Street\, Melbourne \nVIEW PROGRAM \nConference Tickets on Sale! \nTime’s running out purchase your tickets by Feb 5th \n2-day  Member $780.00\n1-day  Member $440.00\n2-day Non-Member $835.00\n1-day Non-Member $465.00\nConference Party $80.00 \n PURCHASE ALL TICKETS HERE
URL:https://omcfsalliance.com.au/training-and-practice/the-vaada-conference-2025-from-challenges-to-solutions-responding-to-a-changing-world/
END:VEVENT
BEGIN:VEVENT
DTSTART;TZID=UTC:20250213T093000
DTEND;TZID=UTC:20250213T170000
DTSTAMP:20260421T213912
CREATED:20250121T223506Z
LAST-MODIFIED:20250121T223506Z
UID:2089-1739439000-1739466000@omcfsalliance.com.au
SUMMARY:Trauma Responsive Leadership - Self as a Leader\,  online
DESCRIPTION:This training program explores the application of a trauma lens when supporting teams and individuals who work with complex trauma. Being trauma responsive means both individual and organisation recognise and respond to trauma which can enable change and strengthen resilience and protective factors. A trauma responsive leader embeds trauma informed principles into practice and creates a culture of safety for their team to work from.\n \n\n$350.00 incl. GST AUD\nGroup Booking (3 or more people) Per Person Rate $330.00 incl. GST AUD\nBlue Knot Professional Member Discount $310.00 incl. GST AUD\n\n\nRegister
URL:https://omcfsalliance.com.au/training-and-practice/trauma-responsive-leadership-self-as-a-leader-online/
END:VEVENT
END:VCALENDAR