BEGIN:VCALENDAR
VERSION:2.0
PRODID:-//Ovens Murray Child &amp; Family Services Alliance - ECPv6.7.1//NONSGML v1.0//EN
CALSCALE:GREGORIAN
METHOD:PUBLISH
X-WR-CALNAME:Ovens Murray Child &amp; Family Services Alliance
X-ORIGINAL-URL:https://omcfsalliance.com.au
X-WR-CALDESC:Events for Ovens Murray Child &amp; Family Services Alliance
REFRESH-INTERVAL;VALUE=DURATION:PT1H
X-Robots-Tag:noindex
X-PUBLISHED-TTL:PT1H
BEGIN:VTIMEZONE
TZID:UTC
BEGIN:STANDARD
TZOFFSETFROM:+0000
TZOFFSETTO:+0000
TZNAME:UTC
DTSTART:20250101T000000
END:STANDARD
END:VTIMEZONE
BEGIN:VEVENT
DTSTART;TZID=UTC:20250210T093000
DTEND;TZID=UTC:20250210T170000
DTSTAMP:20260421T213912
CREATED:20250121T223157Z
LAST-MODIFIED:20250121T223157Z
UID:2087-1739179800-1739206800@omcfsalliance.com.au
SUMMARY:Trauma Awareness in Practice - online
DESCRIPTION:This practical training focuses on the implementation of the trauma-informed principles and the application of foundational knowledge of complex trauma to your work. The importance of connection and collaboration between worker and client is key for resilience and recovery. Building safe relationships with worker and service is critical. Embedding the trauma informed principles into everyday practice creates the safety for healing to begin. \n\n$350.00 incl. GST AUD\nGroup Booking (3 or more people) Per Person Rate $330.00 incl. GST AUD\nBlue Knot Professional Member Discount $310.00 incl. GST AUD\n\nRegister
URL:https://omcfsalliance.com.au/training-and-practice/trauma-awareness-in-practice-online/
END:VEVENT
END:VCALENDAR