BEGIN:VCALENDAR
VERSION:2.0
PRODID:-//Ovens Murray Child &amp; Family Services Alliance - ECPv6.7.1//NONSGML v1.0//EN
CALSCALE:GREGORIAN
METHOD:PUBLISH
X-ORIGINAL-URL:https://omcfsalliance.com.au
X-WR-CALDESC:Events for Ovens Murray Child &amp; Family Services Alliance
REFRESH-INTERVAL;VALUE=DURATION:PT1H
X-Robots-Tag:noindex
X-PUBLISHED-TTL:PT1H
BEGIN:VTIMEZONE
TZID:UTC
BEGIN:STANDARD
TZOFFSETFROM:+0000
TZOFFSETTO:+0000
TZNAME:UTC
DTSTART:20240101T000000
END:STANDARD
END:VTIMEZONE
BEGIN:VEVENT
DTSTART;TZID=UTC:20241119T080000
DTEND;TZID=UTC:20241121T170000
DTSTAMP:20260422T085702
CREATED:20240909T000057Z
LAST-MODIFIED:20240909T000057Z
UID:1633-1732003200-1732208400@omcfsalliance.com.au
SUMMARY:International Conference on Social Work in Health and Mental Health
DESCRIPTION:As a delegate\, the 10th ICSWHMH provides a unique opportunity for you to connect with social work and allied health professionals from across the globe and learn from an impressive lineup of speakers representing organisations such as:\n\n\n\n\n\n\n\n\n\n\n\n  \n\n\n\n\n\n\n\n\n\n\n\n\n\nMount Sinai Hospital (USA)\nWoodlands Health (Singapore)\nThe University of York (UK)\nMildura Base Public Hospital – Mental Health Services (Australia)\nCharles Sturt University (Australia)\n\n\n\n\n\n\n\n\n\n\n\n\n\n\n\n\n\n\n\n\nFirst Nations Child and Family Caring Society of Canada (Canada)\nHelsinki University Hospital HUS (Finland)\nResilience Research Centre (Canada)\nMonash Health (Australia)\n\n\n\n\n\n\n\n\n\n\n\n\n\nAnd many more! \nREGISTER NOW
URL:https://omcfsalliance.com.au/training-and-practice/international-conference-on-social-work-in-health-and-mental-health/
END:VEVENT
BEGIN:VEVENT
DTSTART;TZID=UTC:20241119T080000
DTEND;TZID=UTC:20241122T170000
DTSTAMP:20260422T085702
CREATED:20241014T211817Z
LAST-MODIFIED:20241014T211817Z
UID:1832-1732003200-1732294800@omcfsalliance.com.au
SUMMARY:International Conference on Social Work in Health and Mental Health
DESCRIPTION:The 10th International Conference on Social Work in Health and Mental Health is just around the corner – only five weeks away! \nSpaces are limited; register now and be part of this transformative event!\n\n\n\n\n\n\n\n\n\n\n\n\n\n\n\n\n\n\nRegister now
URL:https://omcfsalliance.com.au/training-and-practice/international-conference-on-social-work-in-health-and-mental-health-2/
LOCATION:Melbourne Convention & Exhibition Centre\, 1 Convention Centre Place\, South wHARF\, Melbourne\, Victoria\, 3006\, Australia
END:VEVENT
BEGIN:VEVENT
DTSTART;TZID=UTC:20241120T080000
DTEND;TZID=UTC:20241121T170000
DTSTAMP:20260422T085702
CREATED:20241014T220648Z
LAST-MODIFIED:20241014T220648Z
UID:1834-1732089600-1732208400@omcfsalliance.com.au
SUMMARY:Playgroup Victoria Conference
DESCRIPTION:We are thrilled to be celebrating 50 years of Playgroup Victoria at our Conference on November 20th and 21st . \nOur conference theme\, Generations of Play\, aims to ensure delegates can take away new and reinforced understanding of the role playgroup can play in ensuring children and families thrive in the early years. The Conference program will delve into the strong and growing evidence of the benefit of playgroup for: \n\nChildren’s learning and development\,\nStrengthening the wellbeing\, confidence and skills of families and carers\,\nBuilding inclusive communities and\nConnecting families to support\n\nThe conference will be opened by The Hon. Lizzie Blandthorn MP (Minister for Children and Minister for Disability) \nOur Keynote Speakers are; \n\nMarc Armitage – Playwork Consultant\nCat Sewell Artistic Director and CoCEO Polyglot Theatre and\nDr Prabhat Rai– Conceptual PlayLab Researcher\, Monash University\n\nOur Panel Discussion – The Evolution of Community Connections will be facilitated by our Patron Professor Emeritus Dorothy Scott AOM \n The program is available here Program-at-a-Glance.pdf (playgroup.org.au)  \nConference – Playgroup Victoria
URL:https://omcfsalliance.com.au/training-and-practice/playgroup-victoria-conference/
LOCATION:Novotel Preston
END:VEVENT
BEGIN:VEVENT
DTSTART;TZID=UTC:20241120T093000
DTEND;TZID=UTC:20241120T163000
DTSTAMP:20260422T085702
CREATED:20240815T025705Z
LAST-MODIFIED:20240815T025705Z
UID:1600-1732095000-1732120200@omcfsalliance.com.au
SUMMARY:Safe & Together Model CORE training - 4 day training
DESCRIPTION:By focusing on four key skills: assessment\, interviewing\, documentation and case planning our experiential training provides the foundation for domestic violence‐informed practice. \n4 DAY TRAINING – Participants must attend all 4 days\nLocation: Wangaratta Library – 21 Docker Street\, Wangaratta\nTraining Dates: Wednesday 20th November 20th\, Thursday 21st\, Wednesday 27th and Thursday 28th November 2024\nTime: 9:30 AM – 4:30 PM\nQuestions: fvcst@umfc.com.au \nCORE Training explores the importance of:\n● Identifying the impact of domestic violence on children and family functioning.\n● Fact‐based assessment of the perpetrators’ behavior patterns.\n● Partnering with adult survivors of domestic violence.\n● Intervening with perpetrators.\n● How domestic violence intersects with other issues like substance abuse and mental health. \nFIND OUT MORE AND REGISTER HERE
URL:https://omcfsalliance.com.au/training-and-practice/safe-together-model-core-training-4-day-training/
END:VEVENT
BEGIN:VEVENT
DTSTART;TZID=UTC:20241120T100000
DTEND;TZID=UTC:20241120T130000
DTSTAMP:20260422T085702
CREATED:20241024T025947Z
LAST-MODIFIED:20241024T025947Z
UID:1900-1732096800-1732107600@omcfsalliance.com.au
SUMMARY:Responding to Disclosures in Prevention - 4 hour virtual training
DESCRIPTION:Learn how to support and respond to disclosures within your work\, by building your understanding and skills required to recognise the dynamics and indicators of violence and respond effectively to disclosures. This training will explore different ways to build safety and support within the design and delivery of prevention activities.\n\n\n\nLEARN MORE AND REGISTER
URL:https://omcfsalliance.com.au/training-and-practice/responding-to-disclosures-in-prevention-4-hour-virtual-training/
END:VEVENT
END:VCALENDAR