BEGIN:VCALENDAR
VERSION:2.0
PRODID:-//Ovens Murray Child &amp; Family Services Alliance - ECPv6.7.1//NONSGML v1.0//EN
CALSCALE:GREGORIAN
METHOD:PUBLISH
X-WR-CALNAME:Ovens Murray Child &amp; Family Services Alliance
X-ORIGINAL-URL:https://omcfsalliance.com.au
X-WR-CALDESC:Events for Ovens Murray Child &amp; Family Services Alliance
REFRESH-INTERVAL;VALUE=DURATION:PT1H
X-Robots-Tag:noindex
X-PUBLISHED-TTL:PT1H
BEGIN:VTIMEZONE
TZID:UTC
BEGIN:STANDARD
TZOFFSETFROM:+0000
TZOFFSETTO:+0000
TZNAME:UTC
DTSTART:20240101T000000
END:STANDARD
END:VTIMEZONE
BEGIN:VEVENT
DTSTART;TZID=UTC:20241022T130000
DTEND;TZID=UTC:20241022T143000
DTSTAMP:20260422T104705
CREATED:20241001T031027Z
LAST-MODIFIED:20241001T031027Z
UID:1694-1729602000-1729607400@omcfsalliance.com.au
SUMMARY:Supporting Culturally and Linguistically Diverse Families in the Early Years - online: MS Teams
DESCRIPTION:  \n  \n  \n  \n  \nJoin the Early Start Bright Future team in exploring some of the supports available for CALD families in the early years that promote engagement with culturally safe early learning opportunities. \nREGISTER HERE \n 
URL:https://omcfsalliance.com.au/training-and-practice/supporting-culturally-and-linguistically-diverse-families-in-the-early-years-online-ms-teams/
END:VEVENT
END:VCALENDAR