BEGIN:VCALENDAR
VERSION:2.0
PRODID:-//Ovens Murray Child &amp; Family Services Alliance - ECPv6.7.1//NONSGML v1.0//EN
CALSCALE:GREGORIAN
METHOD:PUBLISH
X-WR-CALNAME:Ovens Murray Child &amp; Family Services Alliance
X-ORIGINAL-URL:https://omcfsalliance.com.au
X-WR-CALDESC:Events for Ovens Murray Child &amp; Family Services Alliance
REFRESH-INTERVAL;VALUE=DURATION:PT1H
X-Robots-Tag:noindex
X-PUBLISHED-TTL:PT1H
BEGIN:VTIMEZONE
TZID:UTC
BEGIN:STANDARD
TZOFFSETFROM:+0000
TZOFFSETTO:+0000
TZNAME:UTC
DTSTART:20240101T000000
END:STANDARD
END:VTIMEZONE
BEGIN:VEVENT
DTSTART;TZID=UTC:20240911T090000
DTEND;TZID=UTC:20240911T163000
DTSTAMP:20260422T122324
CREATED:20240821T004239Z
LAST-MODIFIED:20240821T004239Z
UID:1623-1726045200-1726072200@omcfsalliance.com.au
SUMMARY:blueknot - Trauma Responsive Leadership
DESCRIPTION:This training program explores the application of a trauma lens when supporting teams and individuals who work with complex trauma. Being trauma responsive means both individual and organisation recognise and respond to trauma which can enable change and strengthen resilience and protective factors. A trauma responsive leader embeds trauma informed principles into practice and creates a culture of safety for their team to work from. \nThe exploration of secure base leadership allows for both safety and exploration in the relationship which builds better client outcomes for staff\, as well as greater staff satisfaction and productivity\, reduced stress and enhanced well-being for all. \n\nProfessional Member Discount $310.00 incl. GST\nGroup Booking (3 or more people) Per Person Rate $330.00 incl. GST\n$350.00 incl. GST\n\nREGISTER
URL:https://omcfsalliance.com.au/training-and-practice/blueknot-trauma-responsive-leadership/
END:VEVENT
BEGIN:VEVENT
DTSTART;TZID=UTC:20240911T100000
DTEND;TZID=UTC:20240911T130000
DTSTAMP:20260422T122324
CREATED:20240716T225842Z
LAST-MODIFIED:20240716T225842Z
UID:1541-1726048800-1726059600@omcfsalliance.com.au
SUMMARY:Introduction to Working with Men Using Family Violence ($369.40\, 2x 3 hour online training sessions delivered via Zoom)
DESCRIPTION:Introduction to working with men using family violence is a foundational training experience for professionals to learn the ways in which men’s family violence is defined and understood. \nThis training develops practitioner skill and confidence in engaging men in the collaborative conversation about their use of abuse and violence\, which is critical in linking them to specialist services and referral pathways that support the behavioural change process. \nDates of delivery: \n11 & 18 September 2024\, 10am-1pm both days \nFor more information and to register\, click here.
URL:https://omcfsalliance.com.au/training-and-practice/introduction-to-working-with-men-using-family-violence-369-40-2x-3-hour-online-training-sessions-delivered-via-zoom/
END:VEVENT
END:VCALENDAR