BEGIN:VCALENDAR
VERSION:2.0
PRODID:-//Ovens Murray Child &amp; Family Services Alliance - ECPv6.7.1//NONSGML v1.0//EN
CALSCALE:GREGORIAN
METHOD:PUBLISH
X-ORIGINAL-URL:https://omcfsalliance.com.au
X-WR-CALDESC:Events for Ovens Murray Child &amp; Family Services Alliance
REFRESH-INTERVAL;VALUE=DURATION:PT1H
X-Robots-Tag:noindex
X-PUBLISHED-TTL:PT1H
BEGIN:VTIMEZONE
TZID:UTC
BEGIN:STANDARD
TZOFFSETFROM:+0000
TZOFFSETTO:+0000
TZNAME:UTC
DTSTART:20240101T000000
END:STANDARD
END:VTIMEZONE
BEGIN:VEVENT
DTSTART;TZID=UTC:20240830T090000
DTEND;TZID=UTC:20240830T163000
DTSTAMP:20260422T122344
CREATED:20240806T234454Z
LAST-MODIFIED:20240806T234454Z
UID:1597-1725008400-1725035400@omcfsalliance.com.au
SUMMARY:Trauma Sensitive Practice: Working with Complex Trauma
DESCRIPTION:(PUB) Trauma Sensitive Practice – Working with Complex Trauma\nMelbourne\nThis training is a blend of foundational information on complex trauma with the introduction of the practice of safety and stabilisation. This training program utilises current research to provide an understanding of trauma\, the impacts of trauma and the neurobiological responses that occur. Building an understanding of the key features of complex trauma that can present in our working relationships and the resourcing and regulation that can support in practice.\n\nProfessional Member Discount $310.00 incl. GST\nGroup Booking (3 or more people) Per Person Rate $330.00 incl. GST\n$350.00 incl. GST\n\nREGISTER
URL:https://omcfsalliance.com.au/training-and-practice/trauma-sensitive-practice-working-with-complex-trauma-3/
END:VEVENT
END:VCALENDAR