BEGIN:VCALENDAR
VERSION:2.0
PRODID:-//Ovens Murray Child &amp; Family Services Alliance - ECPv6.7.1//NONSGML v1.0//EN
CALSCALE:GREGORIAN
METHOD:PUBLISH
X-ORIGINAL-URL:https://omcfsalliance.com.au
X-WR-CALDESC:Events for Ovens Murray Child &amp; Family Services Alliance
REFRESH-INTERVAL;VALUE=DURATION:PT1H
X-Robots-Tag:noindex
X-PUBLISHED-TTL:PT1H
BEGIN:VTIMEZONE
TZID:UTC
BEGIN:STANDARD
TZOFFSETFROM:+0000
TZOFFSETTO:+0000
TZNAME:UTC
DTSTART:20240101T000000
END:STANDARD
END:VTIMEZONE
BEGIN:VEVENT
DTSTART;TZID=UTC:20240829T130000
DTEND;TZID=UTC:20240829T150000
DTSTAMP:20260422T122344
CREATED:20240721T230923Z
LAST-MODIFIED:20240721T230923Z
UID:1549-1724936400-1724943600@omcfsalliance.com.au
SUMMARY:Webinar: Supporting children with a disability and/or developmental delay in kindergarten
DESCRIPTION:  \n \nEarly Start\, Bright Future\nUpcoming webinar: supporting children with a disability and/or developmental delay in kindergarten\nJoin the ESBF team as we present a case study of a young child with an emerging disability and experience of trauma. We will touch on the support available for this child and their family on their journey to kindergarten and the transition to school. Experts will join us in the field to highlight the assistance they can provide to support the inclusion of all children in early learning settings. \n\nThursday 29 August 2024\n1:00 am – 3:00 pm AEST\nOnline (Microsoft Teams)
URL:https://omcfsalliance.com.au/training-and-practice/webinar-supporting-children-with-a-disability-and-or-developmental-delay-in-kindergarten/
END:VEVENT
END:VCALENDAR