BEGIN:VCALENDAR
VERSION:2.0
PRODID:-//Ovens Murray Child &amp; Family Services Alliance - ECPv6.7.1//NONSGML v1.0//EN
CALSCALE:GREGORIAN
METHOD:PUBLISH
X-ORIGINAL-URL:https://omcfsalliance.com.au
X-WR-CALDESC:Events for Ovens Murray Child &amp; Family Services Alliance
REFRESH-INTERVAL;VALUE=DURATION:PT1H
X-Robots-Tag:noindex
X-PUBLISHED-TTL:PT1H
BEGIN:VTIMEZONE
TZID:UTC
BEGIN:STANDARD
TZOFFSETFROM:+0000
TZOFFSETTO:+0000
TZNAME:UTC
DTSTART:20240101T000000
END:STANDARD
END:VTIMEZONE
BEGIN:VEVENT
DTSTART;TZID=UTC:20240828T100000
DTEND;TZID=UTC:20240828T130000
DTSTAMP:20260422T122344
CREATED:20240716T230026Z
LAST-MODIFIED:20240716T230026Z
UID:1543-1724839200-1724850000@omcfsalliance.com.au
SUMMARY:Engaging Dads Using Family Violence ($369.40\, 2x 3 hour online training sessions delivered via Zoom)
DESCRIPTION:This training explores the damaging effects of children witnessing/experiencing violence and abuse and how to shift the focus of interventions to the father’s responsibility and accountability for safe parenting. \nThis training is underpinned by the current evidence base that has established an understanding of the gender drivers of men’s violence against women. Practitioners attending this training examine the understanding that the choice to use abuse includes the ways in which abuse and violence minimise and impact on the parenting of the victim-survivor. \nDates of delivery: \n28 & 29 August 2024\, 10am-1pm both days
URL:https://omcfsalliance.com.au/training-and-practice/engaging-dads-using-family-violence-369-40-2x-3-hour-online-training-sessions-delivered-via-zoom/
END:VEVENT
END:VCALENDAR