BEGIN:VCALENDAR
VERSION:2.0
PRODID:-//Ovens Murray Child &amp; Family Services Alliance - ECPv6.7.1//NONSGML v1.0//EN
CALSCALE:GREGORIAN
METHOD:PUBLISH
X-ORIGINAL-URL:https://omcfsalliance.com.au
X-WR-CALDESC:Events for Ovens Murray Child &amp; Family Services Alliance
REFRESH-INTERVAL;VALUE=DURATION:PT1H
X-Robots-Tag:noindex
X-PUBLISHED-TTL:PT1H
BEGIN:VTIMEZONE
TZID:UTC
BEGIN:STANDARD
TZOFFSETFROM:+0000
TZOFFSETTO:+0000
TZNAME:UTC
DTSTART:20240101T000000
END:STANDARD
END:VTIMEZONE
BEGIN:VEVENT
DTSTART;TZID=UTC:20240827T093000
DTEND;TZID=UTC:20240827T123000
DTSTAMP:20260422T122347
CREATED:20240708T001454Z
LAST-MODIFIED:20240708T001454Z
UID:1495-1724751000-1724761800@omcfsalliance.com.au
SUMMARY:Foundation Case Notes Training
DESCRIPTION:Tailored for professionals such as practitioners\, case managers\, and social workers\, along with other integral members of a comprehensive support system for children\, youth\, and families\, this dynamic 3-hour workshop offers an immersive learning experience. \n“The presenters were very knowledgeable and created a safe space for sharing information and learning.” – participant of Foundation Case Notes. \n\n\n\nRegister now
URL:https://omcfsalliance.com.au/training-and-practice/foundation-case-notes-training/
END:VEVENT
END:VCALENDAR