BEGIN:VCALENDAR
VERSION:2.0
PRODID:-//Ovens Murray Child &amp; Family Services Alliance - ECPv6.7.1//NONSGML v1.0//EN
CALSCALE:GREGORIAN
METHOD:PUBLISH
X-ORIGINAL-URL:https://omcfsalliance.com.au
X-WR-CALDESC:Events for Ovens Murray Child &amp; Family Services Alliance
REFRESH-INTERVAL;VALUE=DURATION:PT1H
X-Robots-Tag:noindex
X-PUBLISHED-TTL:PT1H
BEGIN:VTIMEZONE
TZID:UTC
BEGIN:STANDARD
TZOFFSETFROM:+0000
TZOFFSETTO:+0000
TZNAME:UTC
DTSTART:20240101T000000
END:STANDARD
END:VTIMEZONE
BEGIN:VEVENT
DTSTART;TZID=UTC:20240823T100000
DTEND;TZID=UTC:20240823T130000
DTSTAMP:20260422T141112
CREATED:20240716T225021Z
LAST-MODIFIED:20240716T225021Z
UID:1533-1724407200-1724418000@omcfsalliance.com.au
SUMMARY:Enhanced – The Five Essential Discussion Tools (FREE\, 3 hour online training session delivered via Zoom)
DESCRIPTION:For practitioners who have engaged with the Five Essential Discussion Tools before\, this enhanced package will refresh knowledge and introduce new topics and practice considerations. \nTraining content expands upon underlying theories that support the tools – interoception (Body Signs Tool)\, Name it to Tame it [Dr. Dan Siegel] (Traffic Light Tool) – the theory of behaviour change and brain plasticity; identifying and responding to invitations to collude; and practitioner accountability and best practice principles in the work – managing reactivity and using the tools on yourselves as practitioners. \nThe enhanced package also includes a case study following the journey of a ‘practitioner’ explaining the benefits of the tools to a ‘client’. \nDates of delivery: \n\n23 August 2024 – 10am-1pm\n20 September 2024 – 10am-1pm\n\nFor more information and to register\, click here.
URL:https://omcfsalliance.com.au/training-and-practice/enhanced-the-five-essential-discussion-tools-free-3-hour-online-training-session-delivered-via-zoom-2/
END:VEVENT
END:VCALENDAR