BEGIN:VCALENDAR
VERSION:2.0
PRODID:-//Ovens Murray Child &amp; Family Services Alliance - ECPv6.7.1//NONSGML v1.0//EN
CALSCALE:GREGORIAN
METHOD:PUBLISH
X-WR-CALNAME:Ovens Murray Child &amp; Family Services Alliance
X-ORIGINAL-URL:https://omcfsalliance.com.au
X-WR-CALDESC:Events for Ovens Murray Child &amp; Family Services Alliance
REFRESH-INTERVAL;VALUE=DURATION:PT1H
X-Robots-Tag:noindex
X-PUBLISHED-TTL:PT1H
BEGIN:VTIMEZONE
TZID:UTC
BEGIN:STANDARD
TZOFFSETFROM:+0000
TZOFFSETTO:+0000
TZNAME:UTC
DTSTART:20240101T000000
END:STANDARD
END:VTIMEZONE
BEGIN:VEVENT
DTSTART;TZID=UTC:20240822T123000
DTEND;TZID=UTC:20240822T140000
DTSTAMP:20260422T140927
CREATED:20240724T234222Z
LAST-MODIFIED:20240724T234222Z
UID:1568-1724329800-1724335200@omcfsalliance.com.au
SUMMARY:Promoting Children's Mental Health and Wellbeing in the Context of Family and Domestic Violence
DESCRIPTION:The Centre\, in collaboration with No to Violence\, Safe and Equal\, and Sexual Assault Services Victoria are working on the Family Violence and Sexual Violence Knowledge Hub Project. The project aims to support children and families experiencing family violence and family violence service users. The project will strengthen practice\, identify data gaps and build an evidence base in this sector. As part of the collaboration project\, the Centre will be hosting a series three online events. \nInteractive online event with Emerging Minds \nFamily Violence & Sexual Violence Event (FV&SV) \nThis interactive online event\, the second of the series and facilitated by Emerging Minds\, will improve understanding of how family and domestic violence and abuse may be affecting children’s health\, development and wellbeing. \nPractitioners from specialist and non-specialist programs will likely come into contact with families who have been or are currently impacted by family and domestic violence and abuse. Therefore\, it’s crucial for professionals to have the skills and confidence to discuss with parents how such situations impact children’s health\, development\, and overall wellbeing. We know that children will be impacted by family and domestic violence even if they are not subjected to abuse or witness it directly. \nThis interactive presentation will support practitioners to: \n\nConsider the impact of family and domestic violence on children’s mental health and wellbeing\nUnderstand the importance of being child-aware and parent-sensitive\nExplore ways to talk and work with parents to support and improve their children’s mental health and wellbeing.\n\nThis online event will be particularly valuable to those designing and leading child and family programs and for passionate-change makers wanting to better embed children’s social and emotional wellbeing in their organisational advocacy and strategy. \nThe Family Violence & Sexual Violence Knowledge (FV&SV) Hub Project \nRegister here.
URL:https://omcfsalliance.com.au/training-and-practice/promoting-childrens-mental-health-and-wellbeing-in-the-context-of-family-and-domestic-violence/
END:VEVENT
END:VCALENDAR