BEGIN:VCALENDAR
VERSION:2.0
PRODID:-//Ovens Murray Child &amp; Family Services Alliance - ECPv6.7.1//NONSGML v1.0//EN
CALSCALE:GREGORIAN
METHOD:PUBLISH
X-ORIGINAL-URL:https://omcfsalliance.com.au
X-WR-CALDESC:Events for Ovens Murray Child &amp; Family Services Alliance
REFRESH-INTERVAL;VALUE=DURATION:PT1H
X-Robots-Tag:noindex
X-PUBLISHED-TTL:PT1H
BEGIN:VTIMEZONE
TZID:UTC
BEGIN:STANDARD
TZOFFSETFROM:+0000
TZOFFSETTO:+0000
TZNAME:UTC
DTSTART:20240101T000000
END:STANDARD
END:VTIMEZONE
BEGIN:VEVENT
DTSTART;TZID=UTC:20240814T093000
DTEND;TZID=UTC:20240814T163000
DTSTAMP:20260422T140219
CREATED:20240701T013159Z
LAST-MODIFIED:20240701T013159Z
UID:1449-1723627800-1723653000@omcfsalliance.com.au
SUMMARY:Practice Responses to Child Sexual Exploitation: Forum Series
DESCRIPTION:Register now via Humanitix
URL:https://omcfsalliance.com.au/training-and-practice/practice-responses-to-child-sexual-exploitation-forum-series/
END:VEVENT
BEGIN:VEVENT
DTSTART;TZID=UTC:20240814T130000
DTEND;TZID=UTC:20240814T140000
DTSTAMP:20260422T140219
CREATED:20240714T232818Z
LAST-MODIFIED:20240714T232818Z
UID:1500-1723640400-1723644000@omcfsalliance.com.au
SUMMARY:Supporting infants' and toddlers' resilience during daily transitions
DESCRIPTION:  \nPresenters: Dr Robyn Dolby\, Dr Belinda Friezer\, Claudius Reiman and Vicki Mansfield \nPartner: Emerging Minds \nDate & time: Wednesday 14 August 2024\, 1:00 – 2:00PM (AEST). Find your time zone.\n\n\n\n\n\n\n\n\n\n\n\n\n\n\n\n\n\n\n\n\n\n\n\n\n\n\n\n\n\n\n\n\n\n\n\nEarly childhood is a dynamic period of development and critical to a child’s long term social and emotional wellbeing. In their first five years\, children experience numerous transitions – some transitions are ‘big’\, and some are small\, some expected and some unexpected. Often in practice we discuss the big transitions\, but it’s the repeated small ones that create relationships and underpin the bond between parents/carers and the child. \nThe busyness of day-to-day life can sometimes make it challenging for parents/carers to be emotionally available and find opportunities to connect with their infant or toddler. This webinar will explore ways practitioners can support parents/carers and educators to experience the world through the child’s eyes. \nUsing a case study involving a childcare drop off\, this webinar will focus on how practitioners can support educators and parents/carers to be responsive and consistent with infants and toddlers during daily transitions to promote their confidence and sense of security. Panellists will discuss three transition processes\, including the rowboat metaphor\, the negotiated goodbye\, and preparing to launch. \nThis webinar will help you: \n\nidentify how infant and toddler behaviour is a form of communication\nunderstand how changes in everyday moments of caregiving can build infants’ and toddlers’ confidence and sense of security\npromote infants’ and toddlers’ sense of security\, resilience and confidence during everyday separations\, transitions and social interactions\nunderstand how interdisciplinary coordination between parents/carers\, early childhood educators and practitioners can promote infant and toddler social and emotional wellbeing.\n\nThis webinar will interest practitioners who work with infants\, toddlers and their families\, such as early childhood educators\, child and family services and parenting support\, allied health workers\, child and family nurses\, paediatricians\, infant mental health workers\, adult mental health workers and family domestic violence services. \nThis webinar is co-produced by CFCA at the Australian Institute of Family Studies and Emerging Minds in a series focusing on children’s mental health. They are working together as part of the Emerging Minds: National Workforce Centre for Child Mental Health\, which is funded by the Australian Government Department of Health and Aged Care under the National Support for Child and Youth Mental Health Program. \nREGISTER \n 
URL:https://omcfsalliance.com.au/training-and-practice/supporting-infants-and-toddlers-resilience-during-daily-transitions/
END:VEVENT
BEGIN:VEVENT
DTSTART;TZID=UTC:20240814T130000
DTEND;TZID=UTC:20240814T160000
DTSTAMP:20260422T140219
CREATED:20240729T025731Z
LAST-MODIFIED:20240729T025744Z
UID:1573-1723640400-1723651200@omcfsalliance.com.au
SUMMARY:Join our 'Working with Dads' training
DESCRIPTION:Online\nFor professionals and support servicesIn this workshop\, you will gain knowledge and strategies to:\nEngage dads and father-figures\nBuild a dad-focused service\nPromote to dads effectively\nUnderstand the different types of dads\nSupport dads to create positive family relationships\n\nBook your place here \n 
URL:https://omcfsalliance.com.au/training-and-practice/join-our-working-with-dads-training/
END:VEVENT
END:VCALENDAR