BEGIN:VCALENDAR
VERSION:2.0
PRODID:-//Ovens Murray Child &amp; Family Services Alliance - ECPv6.7.1//NONSGML v1.0//EN
CALSCALE:GREGORIAN
METHOD:PUBLISH
X-ORIGINAL-URL:https://omcfsalliance.com.au
X-WR-CALDESC:Events for Ovens Murray Child &amp; Family Services Alliance
REFRESH-INTERVAL;VALUE=DURATION:PT1H
X-Robots-Tag:noindex
X-PUBLISHED-TTL:PT1H
BEGIN:VTIMEZONE
TZID:UTC
BEGIN:STANDARD
TZOFFSETFROM:+0000
TZOFFSETTO:+0000
TZNAME:UTC
DTSTART:20240101T000000
END:STANDARD
END:VTIMEZONE
BEGIN:VEVENT
DTSTART;TZID=UTC:20240812T100000
DTEND;TZID=UTC:20240812T110000
DTSTAMP:20260422T140220
CREATED:20240730T003623Z
LAST-MODIFIED:20240730T003623Z
UID:1586-1723456800-1723460400@omcfsalliance.com.au
SUMMARY:Commission for Children and Young People Upcoming Webinar - Understanding the changes to the Reportable Conduct Scheme
DESCRIPTION:We’re hosting a free webinar for people who want to learn more about the increase in types of employees covered by the Reportable Conduct Scheme\, which came into effect on 1 July 2024. This webinar is for people in organisations subject to the Reportable Conduct Scheme\, who might be impacted by the changes. \nYou can read more about the changes on our website:\nChanges to workers covered by the Reportable Conduct Scheme \n\nDate: Monday 12 August 2024\nTime: 10:00am – 11:00am\nLocation: Online\, via Teams. You do not need a Teams account to join but registration is required.\nRecording: If you can’t make it on the day\, a recording of the webinar will be available on our website after the event.\n\n\n\n\n\n\n\n\n\n\n\n\n\n  \n\n\n\n\n\n\n\nRegister for the webinar
URL:https://omcfsalliance.com.au/training-and-practice/commission-for-children-and-young-people-upcoming-webinar-understanding-the-changes-to-the-reportable-conduct-scheme/
END:VEVENT
END:VCALENDAR