BEGIN:VCALENDAR
VERSION:2.0
PRODID:-//Ovens Murray Child &amp; Family Services Alliance - ECPv6.7.1//NONSGML v1.0//EN
CALSCALE:GREGORIAN
METHOD:PUBLISH
X-ORIGINAL-URL:https://omcfsalliance.com.au
X-WR-CALDESC:Events for Ovens Murray Child &amp; Family Services Alliance
REFRESH-INTERVAL;VALUE=DURATION:PT1H
X-Robots-Tag:noindex
X-PUBLISHED-TTL:PT1H
BEGIN:VTIMEZONE
TZID:UTC
BEGIN:STANDARD
TZOFFSETFROM:+0000
TZOFFSETTO:+0000
TZNAME:UTC
DTSTART:20240101T000000
END:STANDARD
END:VTIMEZONE
BEGIN:VEVENT
DTSTART;TZID=UTC:20240809T080000
DTEND;TZID=UTC:20240811T170000
DTSTAMP:20260422T140247
CREATED:20240408T010151Z
LAST-MODIFIED:20240408T010151Z
UID:1303-1723190400-1723395600@omcfsalliance.com.au
SUMMARY:THE NATIONAL Kinship\, Permanent & Foster Care Conference 2024
DESCRIPTION:The National Kinship\, Permanent and Foster Care Conference 2024\nRegistrations now open for The National Kinship\, Permanent and Foster Care Conference\, 9 – 11 August\, Melbourne Convention and Exhibition Centre. \nSubmit your abstract to participate in the upcoming Conference. \nRegister to attend. \n 
URL:https://omcfsalliance.com.au/training-and-practice/the-national-kinship-permanent-foster-care-conference-2024/
LOCATION:Melbourne Convention & Exhibition Centre\, 1 Convention Centre Place\, South wHARF\, Melbourne\, Victoria\, 3006\, Australia
END:VEVENT
BEGIN:VEVENT
DTSTART;TZID=UTC:20240809T100000
DTEND;TZID=UTC:20240809T130000
DTSTAMP:20260422T140247
CREATED:20240716T224112Z
LAST-MODIFIED:20240716T224112Z
UID:1521-1723197600-1723208400@omcfsalliance.com.au
SUMMARY:The Five Essential Discussion Tools (FREE\, 3 hour training session delivered via ZOOM)
DESCRIPTION:The original ‘The Five Essential Discussion Tools’ training package has been revised and refreshed. Perfect for practitioners who are new to working with men using family violence or those who have not explored de-escalation techniques in their work\, this training explores the Five Essential Discussion Tools whilst applying an intersectional lens. It identifies how practitioners can engage in conversations to help men make sense of their behaviour; examines the client facing tools; develops practice skills in using the tools as additional interventions with men using family violence; and discusses how safety for families can be established by connecting men with their capacity to change. \nThe revised package includes a video activity to support practitioners to identify invitations to collude\, reframing of passive language and safety planning. \nDates of delivery: \n\n9 August 2024 – 10am-1pm\n6 September 2024 – 10am-1pm\n4 October 2024 – 10am-1pm\n\nFor more information and to register\, click here.
URL:https://omcfsalliance.com.au/training-and-practice/the-five-essential-discussion-tools-free-3-hour-training-session-delivered-via-zoom/
END:VEVENT
END:VCALENDAR