BEGIN:VCALENDAR
VERSION:2.0
PRODID:-//Ovens Murray Child &amp; Family Services Alliance - ECPv6.7.1//NONSGML v1.0//EN
CALSCALE:GREGORIAN
METHOD:PUBLISH
X-ORIGINAL-URL:https://omcfsalliance.com.au
X-WR-CALDESC:Events for Ovens Murray Child &amp; Family Services Alliance
REFRESH-INTERVAL;VALUE=DURATION:PT1H
X-Robots-Tag:noindex
X-PUBLISHED-TTL:PT1H
BEGIN:VTIMEZONE
TZID:UTC
BEGIN:STANDARD
TZOFFSETFROM:+0000
TZOFFSETTO:+0000
TZNAME:UTC
DTSTART:20240101T000000
END:STANDARD
END:VTIMEZONE
BEGIN:VEVENT
DTSTART;TZID=UTC:20240807T130000
DTEND;TZID=UTC:20240807T140000
DTSTAMP:20260422T141202
CREATED:20240721T230633Z
LAST-MODIFIED:20240721T230633Z
UID:1546-1723035600-1723039200@omcfsalliance.com.au
SUMMARY:AVITH in Context: Work with Under 12s
DESCRIPTION:AVITH in Context: Work with Under 12s\n                                    \nMany service providers are seeing referrals for children under 12 with violent\, aggressive or otherwise “challenging” behaviours. Join us for this online discussion with specialist practitioners about common presenting issues and behaviours seen in younger cohorts and how this work with children (engagement\, parent work\, expectations of accountability) differs from work with older adolescents. \n\nWednesday 7 August 2024\n1:00 pm – 2:00 pm\n\nOnline \n\n\n\nRSVP today to the AVITH event
URL:https://omcfsalliance.com.au/training-and-practice/avith-in-context-work-with-under-12s/
END:VEVENT
END:VCALENDAR