BEGIN:VCALENDAR
VERSION:2.0
PRODID:-//Ovens Murray Child &amp; Family Services Alliance - ECPv6.7.1//NONSGML v1.0//EN
CALSCALE:GREGORIAN
METHOD:PUBLISH
X-ORIGINAL-URL:https://omcfsalliance.com.au
X-WR-CALDESC:Events for Ovens Murray Child &amp; Family Services Alliance
REFRESH-INTERVAL;VALUE=DURATION:PT1H
X-Robots-Tag:noindex
X-PUBLISHED-TTL:PT1H
BEGIN:VTIMEZONE
TZID:UTC
BEGIN:STANDARD
TZOFFSETFROM:+0000
TZOFFSETTO:+0000
TZNAME:UTC
DTSTART:20240101T000000
END:STANDARD
END:VTIMEZONE
BEGIN:VEVENT
DTSTART;TZID=UTC:20240729T093000
DTEND;TZID=UTC:20240729T123000
DTSTAMP:20260422T141202
CREATED:20240708T000737Z
LAST-MODIFIED:20240708T001155Z
UID:1488-1722245400-1722256200@omcfsalliance.com.au
SUMMARY:Best Interest Case Practice Model - Foundation Training
DESCRIPTION:Tailored to enrich and bolster professional proficiency in family services\, child protection\, and placement and support services\, the Best Interests Case Practice Model (BICPM) is dedicated to fostering favourable outcomes for children and their families.\nLearning Outcomes\n\nEnhance skills in building relationships with clients and stakeholders to facilitate optimal outcomes for children\, young people\, and their families\, aligning with BICPM’s ‘Relationship Based’ principles.\nDevelop proficiency in ‘Information Gathering’ techniques consistent with BICPM’s principles and tools.\nStrengthen capabilities in case planning and risk assessment in alignment with BICPM’s ‘Analysis and Planning’ principles and tools.\nAcquire skills for effectively supporting service users in accordance with BICPM’s ‘Action’ principles.\nDevelop the ability to reflect on practice and service delivery in accordance with BICPM’s ‘Reviewing Outcomes’ principles.\n\nOnline training via TEAMS \nCost of Training: $420 (incl GST) \nDelivery date and timings:\nThis session will be delivered in 2 parts:\n29/07/2024\, 9:30 AM – 12:30 PM\n30/07/2024\, 9:30 AM – 12:30 PM \nTo register please go to – https://training.cfecfw.asn.au/ and enter CENPRO in the Program Code field.
URL:https://omcfsalliance.com.au/training-and-practice/best-interest-case-practice-model-foundation-training/
END:VEVENT
END:VCALENDAR