BEGIN:VCALENDAR
VERSION:2.0
PRODID:-//Ovens Murray Child &amp; Family Services Alliance - ECPv6.7.1//NONSGML v1.0//EN
CALSCALE:GREGORIAN
METHOD:PUBLISH
X-WR-CALNAME:Ovens Murray Child &amp; Family Services Alliance
X-ORIGINAL-URL:https://omcfsalliance.com.au
X-WR-CALDESC:Events for Ovens Murray Child &amp; Family Services Alliance
REFRESH-INTERVAL;VALUE=DURATION:PT1H
X-Robots-Tag:noindex
X-PUBLISHED-TTL:PT1H
BEGIN:VTIMEZONE
TZID:UTC
BEGIN:STANDARD
TZOFFSETFROM:+0000
TZOFFSETTO:+0000
TZNAME:UTC
DTSTART:20240101T000000
END:STANDARD
END:VTIMEZONE
BEGIN:VEVENT
DTSTART;TZID=UTC:20240725T093000
DTEND;TZID=UTC:20240725T163000
DTSTAMP:20260424T084628
CREATED:20240704T030423Z
LAST-MODIFIED:20240704T030423Z
UID:1478-1721899800-1721925000@omcfsalliance.com.au
SUMMARY:Responding to Family Violence in Migrant & Refugee Communities
DESCRIPTION:RSVP to: genderquity@wangaratta.vic.gov.au
URL:https://omcfsalliance.com.au/training-and-practice/responding-to-family-violence-in-migrant-refugee-communities/
END:VEVENT
BEGIN:VEVENT
DTSTART;TZID=UTC:20240725T123000
DTEND;TZID=UTC:20240725T140000
DTSTAMP:20260424T084628
CREATED:20240702T030303Z
LAST-MODIFIED:20240702T030303Z
UID:1470-1721910600-1721916000@omcfsalliance.com.au
SUMMARY:OPEN Forum: Trauma-informed insights
DESCRIPTION:Thursday 25 July | 12:30pm – 2:00pm | Online \nWhen working with young people using violence\, being trauma-informed is a must. Do you need ideas embedding an organisation-wide model of care? Join OPEN and facilitators from Uniting Vic.Tas\, for an insightful discussion on the development of Uniting’s Therapeutic Model of Care (TMoC). \nRegister here.
URL:https://omcfsalliance.com.au/training-and-practice/open-forum-trauma-informed-insights/
END:VEVENT
END:VCALENDAR