BEGIN:VCALENDAR
VERSION:2.0
PRODID:-//Ovens Murray Child &amp; Family Services Alliance - ECPv6.7.1//NONSGML v1.0//EN
CALSCALE:GREGORIAN
METHOD:PUBLISH
X-ORIGINAL-URL:https://omcfsalliance.com.au
X-WR-CALDESC:Events for Ovens Murray Child &amp; Family Services Alliance
REFRESH-INTERVAL;VALUE=DURATION:PT1H
X-Robots-Tag:noindex
X-PUBLISHED-TTL:PT1H
BEGIN:VTIMEZONE
TZID:UTC
BEGIN:STANDARD
TZOFFSETFROM:+0000
TZOFFSETTO:+0000
TZNAME:UTC
DTSTART:20240101T000000
END:STANDARD
END:VTIMEZONE
BEGIN:VEVENT
DTSTART;TZID=UTC:20240715T093000
DTEND;TZID=UTC:20240715T163000
DTSTAMP:20260424T084624
CREATED:20240513T224240Z
LAST-MODIFIED:20240513T224240Z
UID:1338-1721035800-1721061000@omcfsalliance.com.au
SUMMARY:Safe & Together™ Model CORE Training
DESCRIPTION:Safe & Together™ Model CORE Training\nBy focusing on four key skills: assessment\, interviewing\, documentation and case planning our experiential training provides the foundation for domestic\nviolence-informed practice.\nMore Information/Registration: https://events.humanitix.com/safe-and-together-core-training-by-umfc    \n \nLocation: Wangaratta Turf Club – Grand Oaks 1\, 20-32 Racecourse Road\, Wangaratta\nFour-day training event\, dates: 15th\, 22nd\, 29th July & 5th August 2024 9:30 AM – 4:30 PM. \nQuestions: fvcst@umfc.com.au \nCORE Training explores the importance of:\n● Identifying the impact of domestic violence on children and family functioning.\n● Fact-based assessment of the perpetrators’ behavior patterns.\n● Partnering with adult survivors of domestic violence.\n● Intervening with perpetrators.\n● How domestic violence intersects with other issues like substance abuse and mental health.\nParticipants of the CORE Training will:\n● Learn to use practice tools\, such as Mapping Perpetrators’ Patterns and Multiple Pathways to Harm that can be implemented right away to improve assessment of risk\, impact on children\, survivor protective efforts and essential case decisions\n● Practice interviewing perpetrators\, survivors and children through modeling\, role play and videos\n● Improve their domestic violence-informed documentation through individual and group exercises\n● Discuss their own current or past cases and explore how the Safe & Together Model could be implemented \nCORE as a prerequisite:\n● Participants who complete all four days and score an 80% or higher on the CORE Training posttest will meet one of the prerequisites to become a Safe & Together Model Certified Trainer.\nMore about Certified Trainer Program:\nhttps://safeandtogetherinstitute.com/what-we-offer/certifications/stm-trainer-certification-program/
URL:https://omcfsalliance.com.au/training-and-practice/safe-together-model-core-training/
END:VEVENT
END:VCALENDAR