BEGIN:VCALENDAR
VERSION:2.0
PRODID:-//Ovens Murray Child &amp; Family Services Alliance - ECPv6.7.1//NONSGML v1.0//EN
CALSCALE:GREGORIAN
METHOD:PUBLISH
X-ORIGINAL-URL:https://omcfsalliance.com.au
X-WR-CALDESC:Events for Ovens Murray Child &amp; Family Services Alliance
REFRESH-INTERVAL;VALUE=DURATION:PT1H
X-Robots-Tag:noindex
X-PUBLISHED-TTL:PT1H
BEGIN:VTIMEZONE
TZID:UTC
BEGIN:STANDARD
TZOFFSETFROM:+0000
TZOFFSETTO:+0000
TZNAME:UTC
DTSTART:20240101T000000
END:STANDARD
END:VTIMEZONE
BEGIN:VEVENT
DTSTART;TZID=UTC:20240621T090000
DTEND;TZID=UTC:20240621T163000
DTSTAMP:20260424T102421
CREATED:20240522T231049Z
LAST-MODIFIED:20240522T231049Z
UID:1380-1718960400-1718987400@omcfsalliance.com.au
SUMMARY:Foundations for Building Trauma Awareness
DESCRIPTION:Online \nThis training utilises current research to provide an understanding of trauma\, the impacts of trauma on all aspects of life and subsequently the coping mechanisms formed in response to trauma. The principles of trauma-informed practice are introduced which focus on a strengths-based approach and applicable to all\, vital for every person working in health\, human\, education\, disability and legal services\, working in government\, non-government\, public or private sectors. \n\nProfessional Member Discount $310.00 incl. GST\nGroup Booking (3 or more people) Per Person Rate $330.00 incl. GST\n$350.00 incl. GST\n\nREGISTER
URL:https://omcfsalliance.com.au/training-and-practice/foundations-for-building-trauma-awareness/
END:VEVENT
END:VCALENDAR