BEGIN:VCALENDAR
VERSION:2.0
PRODID:-//Ovens Murray Child &amp; Family Services Alliance - ECPv6.7.1//NONSGML v1.0//EN
CALSCALE:GREGORIAN
METHOD:PUBLISH
X-ORIGINAL-URL:https://omcfsalliance.com.au
X-WR-CALDESC:Events for Ovens Murray Child &amp; Family Services Alliance
REFRESH-INTERVAL;VALUE=DURATION:PT1H
X-Robots-Tag:noindex
X-PUBLISHED-TTL:PT1H
BEGIN:VTIMEZONE
TZID:UTC
BEGIN:STANDARD
TZOFFSETFROM:+0000
TZOFFSETTO:+0000
TZNAME:UTC
DTSTART:20240101T000000
END:STANDARD
END:VTIMEZONE
BEGIN:VEVENT
DTSTART;TZID=UTC:20240620T110000
DTEND;TZID=UTC:20240620T123000
DTSTAMP:20260424T102421
CREATED:20240207T223727Z
LAST-MODIFIED:20240207T224404Z
UID:1140-1718881200-1718886600@omcfsalliance.com.au
SUMMARY:Blue Knot Foundation - Wellbeing and Emotional Awareness when working with Complex Trauma (Webinar)
DESCRIPTION:Online – 1 hour\, 30 minutes\, 11:00 AM AEST – 12:30 PM AEST \nThis one and a half hour webinar provides information about wellbeing and self-care when working with clients who have Complex Trauma. \n\n$75.00  GST\n\nREGISTER
URL:https://omcfsalliance.com.au/training-and-practice/blueknot-wellbeing-and-emotional-awareness-when-working-with-complex-trauma-webinar-2/
END:VEVENT
BEGIN:VEVENT
DTSTART;TZID=UTC:20240620T110000
DTEND;TZID=UTC:20240620T123000
DTSTAMP:20260424T102421
CREATED:20240522T230843Z
LAST-MODIFIED:20240522T230843Z
UID:1377-1718881200-1718886600@omcfsalliance.com.au
SUMMARY:Wellbeing and Emotional Awareness when working with Complex Trauma Webinar
DESCRIPTION:Online\nThis one and a half hour webinar provides information about wellbeing and self-care when working with clients who have Complex Trauma. \n$75.00 incl. GST \nREGISTER
URL:https://omcfsalliance.com.au/training-and-practice/wellbeing-and-emotional-awareness-when-working-with-complex-trauma-webinar/
END:VEVENT
END:VCALENDAR