BEGIN:VCALENDAR
VERSION:2.0
PRODID:-//Ovens Murray Child &amp; Family Services Alliance - ECPv6.7.1//NONSGML v1.0//EN
CALSCALE:GREGORIAN
METHOD:PUBLISH
X-ORIGINAL-URL:https://omcfsalliance.com.au
X-WR-CALDESC:Events for Ovens Murray Child &amp; Family Services Alliance
REFRESH-INTERVAL;VALUE=DURATION:PT1H
X-Robots-Tag:noindex
X-PUBLISHED-TTL:PT1H
BEGIN:VTIMEZONE
TZID:UTC
BEGIN:STANDARD
TZOFFSETFROM:+0000
TZOFFSETTO:+0000
TZNAME:UTC
DTSTART:20240101T000000
END:STANDARD
END:VTIMEZONE
BEGIN:VEVENT
DTSTART;TZID=UTC:20240614T090000
DTEND;TZID=UTC:20240614T163000
DTSTAMP:20260424T100451
CREATED:20240522T230319Z
LAST-MODIFIED:20240522T230319Z
UID:1372-1718355600-1718382600@omcfsalliance.com.au
SUMMARY:Trauma Responsive Leadership - Self as a Leader
DESCRIPTION:Online \nThis training program explores the application of a trauma lens when supporting teams and individuals who work with complex trauma. Being trauma responsive means both individual and organisation recognise and respond to trauma which can enable change and strengthen resilience and protective factors. A trauma responsive leader embeds trauma informed principles into practice and creates a culture of safety for their team to work from. \n\nProfessional Member Discount $310.00 incl. GST\nGroup Booking (3 or more people) Per Person Rate $330.00 incl. GST\n$350.00 incl. GST\n\nREGISTER
URL:https://omcfsalliance.com.au/training-and-practice/trauma-responsive-leadership-self-as-a-leader/
END:VEVENT
END:VCALENDAR