BEGIN:VCALENDAR
VERSION:2.0
PRODID:-//Ovens Murray Child &amp; Family Services Alliance - ECPv6.7.1//NONSGML v1.0//EN
CALSCALE:GREGORIAN
METHOD:PUBLISH
X-WR-CALNAME:Ovens Murray Child &amp; Family Services Alliance
X-ORIGINAL-URL:https://omcfsalliance.com.au
X-WR-CALDESC:Events for Ovens Murray Child &amp; Family Services Alliance
REFRESH-INTERVAL;VALUE=DURATION:PT1H
X-Robots-Tag:noindex
X-PUBLISHED-TTL:PT1H
BEGIN:VTIMEZONE
TZID:UTC
BEGIN:STANDARD
TZOFFSETFROM:+0000
TZOFFSETTO:+0000
TZNAME:UTC
DTSTART:20240101T000000
END:STANDARD
END:VTIMEZONE
BEGIN:VEVENT
DTSTART;TZID=UTC:20240607T090000
DTEND;TZID=UTC:20240607T163000
DTSTAMP:20260424T100402
CREATED:20240206T214835Z
LAST-MODIFIED:20240206T215400Z
UID:1112-1717750800-1717777800@omcfsalliance.com.au
SUMMARY:blueknot - Trauma Informed Diversity Awareness Masterclass
DESCRIPTION:Upcoming Dates (Virtual Classroom delivered via Zoom)\n7 June 2024\, 9am to 4.30pm AEST \n\nProfessional Member Discount $330.00 incl. GST\n$370.00 incl. GST\n\nThis experiential one-day professional development training goes beyond ‘standard’ LGBTIQ diversity training. This masterclass fosters the knowledge and skills to work competently and confidently with transgender people accessing therapeutic and other services. It explores the intersectionality of complex trauma\, discrimination\, and minority stress to build understanding on how these factors impact the health of transgender people. \nParticipants gain a practical and inclusive framework for implementing trauma-informed principles within best practice guidelines when working with transgender and gender diverse populations\, aligning policies and procedures with existing legislation. \n\n\n\n\n\n\n\n\n\n\n\n\nClick here to register for this training
URL:https://omcfsalliance.com.au/training-and-practice/blueknot-trauma-informed-diversity-awareness-masterclass-2/
END:VEVENT
END:VCALENDAR