BEGIN:VCALENDAR
VERSION:2.0
PRODID:-//Ovens Murray Child &amp; Family Services Alliance - ECPv6.7.1//NONSGML v1.0//EN
CALSCALE:GREGORIAN
METHOD:PUBLISH
X-ORIGINAL-URL:https://omcfsalliance.com.au
X-WR-CALDESC:Events for Ovens Murray Child &amp; Family Services Alliance
REFRESH-INTERVAL;VALUE=DURATION:PT1H
X-Robots-Tag:noindex
X-PUBLISHED-TTL:PT1H
BEGIN:VTIMEZONE
TZID:UTC
BEGIN:STANDARD
TZOFFSETFROM:+0000
TZOFFSETTO:+0000
TZNAME:UTC
DTSTART:20240101T000000
END:STANDARD
END:VTIMEZONE
BEGIN:VEVENT
DTSTART;TZID=UTC:20240604T090000
DTEND;TZID=UTC:20240604T163000
DTSTAMP:20260424T101654
CREATED:20240522T225503Z
LAST-MODIFIED:20240522T225503Z
UID:1364-1717491600-1717518600@omcfsalliance.com.au
SUMMARY:Trauma Sensitive Practice - Working with Complex Trauma
DESCRIPTION:Virtual classroom delivered via Zoom \nThis training is a blend of foundational information on complex trauma with the introduction of the practice of safety and stabilisation. This training program utilises current research to provide an understanding of trauma\, the impacts of trauma and the neurobiological responses that occur. Building an understanding of the key features of complex trauma that can present in our working relationships and the resourcing and regulation that can support in practice. \n\nProfessional Member Discount $310.00 incl. GST\nGroup Booking (3 or more people) Per Person Rate $330.00 incl. GST\n$350.00 incl. GST\n\nRegister
URL:https://omcfsalliance.com.au/training-and-practice/trauma-sensitive-practice-working-with-complex-trauma/
END:VEVENT
BEGIN:VEVENT
DTSTART;TZID=UTC:20240604T123000
DTEND;TZID=UTC:20240604T140000
DTSTAMP:20260424T101654
CREATED:20240515T011731Z
LAST-MODIFIED:20240515T011731Z
UID:1349-1717504200-1717509600@omcfsalliance.com.au
SUMMARY:OPEN Forum: Trauma-informed insights - Effective leadership to improve children's mental health.
DESCRIPTION:OPEN Forum: Trauma-informed insights – Effective leadership to improve children’s mental health.\nJune 4th | 12.30PM – 2.00PM | Online \nJoin OPEN and presenters from Emerging Minds for a session that will highlight ways in which organisations can better embed children’s social and emotional wellbeing in their child and family programs.\nChildren’s mental health is not well understood\, this session aims to enhance understanding and capability in this area. \nThis session will discuss: \n\nThe intergenerational aspects of trauma\nThe impact of increasing complexity in clients which can impact the overall wellbeing of children and families\nThe ways in which leaders can support children’s mental health in their organisations\nWorking in ways that promote children’s wellbeing and family resilience\n\nThis OPEN Forum will be particularly valuable to those designing and leading child and family programs and for passionate change-makers wanting to better embed children’s social and emotional wellbeing in their organisational advocacy and strategy.\n\n\n\n\n\n\n\n\n\n\n\n  \n\n\n\n\n\n\n\nRSVP today
URL:https://omcfsalliance.com.au/training-and-practice/open-forum-trauma-informed-insights-effective-leadership-to-improve-childrens-mental-health/
END:VEVENT
END:VCALENDAR