BEGIN:VCALENDAR
VERSION:2.0
PRODID:-//Ovens Murray Child &amp; Family Services Alliance - ECPv6.7.1//NONSGML v1.0//EN
CALSCALE:GREGORIAN
METHOD:PUBLISH
X-ORIGINAL-URL:https://omcfsalliance.com.au
X-WR-CALDESC:Events for Ovens Murray Child &amp; Family Services Alliance
REFRESH-INTERVAL;VALUE=DURATION:PT1H
X-Robots-Tag:noindex
X-PUBLISHED-TTL:PT1H
BEGIN:VTIMEZONE
TZID:UTC
BEGIN:STANDARD
TZOFFSETFROM:+0000
TZOFFSETTO:+0000
TZNAME:UTC
DTSTART:20240101T000000
END:STANDARD
END:VTIMEZONE
BEGIN:VEVENT
DTSTART;TZID=UTC:20240521T120000
DTEND;TZID=UTC:20240521T140000
DTSTAMP:20260424T114855
CREATED:20240515T011501Z
LAST-MODIFIED:20240515T011501Z
UID:1352-1716292800-1716300000@omcfsalliance.com.au
SUMMARY:National Symposium: How contextual prevention strategies can prevent child sexual abuse.
DESCRIPTION:Symposium: How contextual prevention strategies can prevent child sexual abuse.\nContextual prevention aims to make diverse social contexts and a child’s immediate settings safer for children. Hear presentations from leading researchers on how to advance organisational child-safe practices using contextual safeguarding strategies. \n\nTuesday 21 May\n12:00-2:00 pm (AEST)\nNote: Symposium will be recorded and sent to anyone who has registered.\n\nHosted by Institute of Child Protection Studies (ACU) and Sexual Violence Research & Prevention Unit (UniSC).\n\n\n\n\n\n\n\n\n\n\n\n  \n\n\n\n\n\n\n\nRegister for the symposium
URL:https://omcfsalliance.com.au/training-and-practice/national-symposium-how-contextual-prevention-strategies-can-prevent-child-sexual-abuse/
END:VEVENT
END:VCALENDAR