BEGIN:VCALENDAR
VERSION:2.0
PRODID:-//Ovens Murray Child &amp; Family Services Alliance - ECPv6.7.1//NONSGML v1.0//EN
CALSCALE:GREGORIAN
METHOD:PUBLISH
X-WR-CALNAME:Ovens Murray Child &amp; Family Services Alliance
X-ORIGINAL-URL:https://omcfsalliance.com.au
X-WR-CALDESC:Events for Ovens Murray Child &amp; Family Services Alliance
REFRESH-INTERVAL;VALUE=DURATION:PT1H
X-Robots-Tag:noindex
X-PUBLISHED-TTL:PT1H
BEGIN:VTIMEZONE
TZID:UTC
BEGIN:STANDARD
TZOFFSETFROM:+0000
TZOFFSETTO:+0000
TZNAME:UTC
DTSTART:20240101T000000
END:STANDARD
END:VTIMEZONE
BEGIN:VEVENT
DTSTART;TZID=UTC:20240509T093000
DTEND;TZID=UTC:20240509T153000
DTSTAMP:20260424T114805
CREATED:20240201T040826Z
LAST-MODIFIED:20240206T043110Z
UID:976-1715247000-1715268600@omcfsalliance.com.au
SUMMARY:Ovens Murray region MARAM Collaborative Practice Training- WANGARATTA- Face to Face
DESCRIPTION:  \n \n  \n  \n  \nMARAM Collaborative Practice Training- WANGARATTA- Face to Face\nThis training is open to any professional in the Ovens Murray region who responds to family violence.\nExplore how to contribute to risk assessment and collaborate for ongoing risk management through respectful and sensitive engagement with victim survivors\, information sharing\, referral and secondary consultation. This is not risk assessment training but forms an integral component of the MARAM suite of training for professionals responding to family violence. \nHosted by Ovens Murray Family Violence Partnership\nhttps://events.humanitix.com/maram-collaborative-practice-training-wangaratta-face-to-face \n  \n  \n 
URL:https://omcfsalliance.com.au/training-and-practice/ovens-murray-region-maram-collaborative-practice-training-wangaratta-face-to-face/
ATTACH;FMTTYPE=image/jpeg:https://omcfsalliance.com.au/wp-content/uploads/2024/02/OMFVP.jpg
END:VEVENT
END:VCALENDAR