BEGIN:VCALENDAR
VERSION:2.0
PRODID:-//Ovens Murray Child &amp; Family Services Alliance - ECPv6.7.1//NONSGML v1.0//EN
CALSCALE:GREGORIAN
METHOD:PUBLISH
X-WR-CALNAME:Ovens Murray Child &amp; Family Services Alliance
X-ORIGINAL-URL:https://omcfsalliance.com.au
X-WR-CALDESC:Events for Ovens Murray Child &amp; Family Services Alliance
REFRESH-INTERVAL;VALUE=DURATION:PT1H
X-Robots-Tag:noindex
X-PUBLISHED-TTL:PT1H
BEGIN:VTIMEZONE
TZID:UTC
BEGIN:STANDARD
TZOFFSETFROM:+0000
TZOFFSETTO:+0000
TZNAME:UTC
DTSTART:20240101T000000
END:STANDARD
END:VTIMEZONE
BEGIN:VEVENT
DTSTART;TZID=UTC:20240508T091500
DTEND;TZID=UTC:20240508T163000
DTSTAMP:20260424T114751
CREATED:20240324T235547Z
LAST-MODIFIED:20240324T235547Z
UID:1256-1715159700-1715185800@omcfsalliance.com.au
SUMMARY:SAFE+EQUAL- Case Notes Family Violence & the Law
DESCRIPTION:Build your confidence in writing case notes for your clients experiencing family violence\, with this training delivered in partnership with Women’s Legal Service Victoria.\nIn this full-day virtual training\, family violence specialist practitioners and leaders will learn best practices for the structure\, style and language of case notes. You will also develop your knowledge about how to respond to subpoenas\, appear as a witness in court\, and identify privacy and legal issues. \nUpcoming dates for this training include:\nWednesday 10 April 2024\nWednesday 8 May 2024 \nCost: $380\nIf you’re a Safe and Equal full member\, you are eligible for a 25% discount. Please contact our Client Services team before enrolling. \nTime: 9.15 am – 4.30 pm \nREGISTER
URL:https://omcfsalliance.com.au/training-and-practice/safeequal-case-notes-family-violence-the-law/
END:VEVENT
END:VCALENDAR